Workbook

Sheet users
C1: Наталия 72 | D1: Lila | E1: Tara | F1: Фан | G1: eleka | H1: Брусника | I1: Эстер | J1: Ирена | K1: lirio | L1: Slana | M1: Lilia | N1: Ванесса | O1: Заира | P1: Elizavetta | Q1: Безоблачно | R1: Июльская | S1: Север | T1: Оксана | U1: tata64 | V1: RIA | W1: Lucciola | X1: Грань | Y1: Омела | Z1: Expertalisa | AA1: Елена 103 | AB1: Milora | AC1: Мезень | AD1: Nadin | AE1: snezhinka | AF1: kowikkot | AG1: Lorika | AH1: Августина | AI1: Лена | AJ1: Лорик | AK1: НитьАриадны | AL1: Riga | AM1: Natashkin | AN1: Гульнара | AO1: katrin M. | AP1: ALLA OK. | AQ1: Читающая | AR1: lyudvika | AS1: Вересок | AT1: argon | AU1: Apelsinka | AV1: aleshka317 | AW1: Tancha2511 | AX1: Gera72 | AY1: INA | AZ1: Harita | BA1: Oreshka | BB1: olgaballet | BC1: Фрекен_Жюли | BD1: Свет-лана | BE1: Alisa | BF1: Shurun4ik | BG1: Пампушечка | BH1: СоВа | BI1: ochka | BJ1: Аделана | BK1: синильга | BL1: Елена Х. | BM1: Fenechka | BN1: ELEN-A | BO1: ELEN-A (знакомая) | BP1: Ирина Егорова | BQ1: Стрекоза | BR1: Тусся | BS1: леночка-пеночка | BT1: Lubannya | BU1: Елена К | BV1: Volga | BW1: assol | BX1: Strelec2 | BY1: Vitalina | BZ1: nataliaa | CA1: Дусятко | CB1: olrika | CC1: Индигирка | CD1: ptitsa | CE1: лапы вверх | CF1: Неонила | CG1: Лароза | CH1: ANNI | CI1: my_moonlight | CJ1: mevlana | CK1: Chispa | CL1: Татьяна СПб | CM1: Helga | CN1: InnaBuchneva | CO1: lady_in | CP1: Lada_J | CQ1: АленкаМастерица | CR1: <Marfa> | CS1: Ирина-сказка | CT1: TATY | CU1: Irka | CV1: Scorp | CW1: Larisa71 | CX1: skarlet | CY1: A-Léx-A | CZ1: Olenka | DA1: afujn | DB1: Madlen | DC1: Perla Haviva | DD1: p@r@solk@ | DE1: ВикторияВ | DF1: Каффа | DG1: vikka | DH1: Изумруд | DI1: smolka79 | DJ1: 1Ledy | DK1: Le_rodina | DL1: shostova.t | DM1: Любовь Анатольевна | DN1: olgunia | DO1: ksenechka | DP1: Викирина | DQ1: olga12 | DR1: alisainr | DS1: Натушка | DT1: ElenaB | DU1: Vorobei | DV1: Exocat | DW1: tugrik | DX1: arvenig | DY1: ИринаШел | DZ1: оредеж | EA1: Жимолость | EB1: Акилина | EC1: Труня | ED1: sibirka | EE1: Весновка | EF1: Минерва | EG1: fevralka | EH1: Kлариса | EI1: Silena | EJ1: Татьяна76 | EK1: L_G | EL1: Elena_Nov | EM1: Татьяна Германовна | EN1: YanaYa | EO1: Такта | EP1: Tatyana_Ars | EQ1: берегиня | ER1: Гжель | ES1: Ёлка | ET1: Naive | EU1: Рогозик | EV1: Зарина | EW1: НаташаРичардсон | EX1: MaRiSa65 | EY1: vare_zhka | EZ1: Vikki7 | FA1: Olga T | FB1: Марвари | FC1: Наточка | FD1: Февралия | FE1: Larna | FF1: visnop | FG1: Светлана Бородина | FH1: Elena_A | FI1: Лена_Алёна | FJ1: Сияние | FK1: Провизор | FL1: ИриsКа | FM1: Hel | FN1: Verana | FO1: JuliaZ | FP1: Огонь 22 | FQ1: pronya | FR1: Маргарита Мастера | FS1: Gora | FT1: Мирона | FU1: Regata | FV1: alisainr | FW1: синильга | FX1: Фрейя | FY1: Ландыш | FZ1: Николь123 | GA1: Геранька | GB1: Феотлиса | GC1: Манул | GD1: Касабланка | GE1: Наташенька | GF1: braenn77 | GG1: UGADKA | GH1: OxanaMama | GI1: Оксана74 | GJ1: alisainr | GK1: alfa | GL1: Vesta | GM1: OlgaFox | GN1: elvira | GO1: natalyB | GP1: Сирин | GQ1: Северянка | GR1: Косичка | GS1: эхо27 | GT1: Valena | GU1: AcTpuD | GV1: Синица | GW1: inga-sv | GX1: Столичная | GY1: tanuchka | GZ1: ОльгаC | HA1: Black_Cat | HB1: Филя | HC1: alisainr | HD1: Звёздная | HE1: lenalena | HF1: Аркадия | HG1: tata150764 | HH1: buratino | HI1: Лада | HJ1: Magnette | HK1: yuly1104 | HL1: tig-rik | HM1: manynia | HN1: Альциона | HO1: ИТОГО
A2: Небесный
A3: 9 | B3: =CONCATENATE($A$2," ",A3) -> Небесный 9 | AT3: 1 | AU3: 1 | BO3: 1 | BU3: 1 | CF3: 1 | CJ3: 1 | CO3: 1 | CZ3: 1 | DG3: 1 | DH3: 1 | EN3: 1 | FB3: 1 | FO3: 1 | FS3: 1 | HJ3: 1 | HO3: =SUM(C3:HN3) -> 15
A4: 10 | B4: =CONCATENATE($A$2," ",A4) -> Небесный 10 | F4: 1 | L4: 1 | U4: 1 | AT4: 1 | AZ4: 1 | BB4: 1 | BE4: 1 | BN4: 1 | BO4: 1 | BS4: 1 | BU4: 1 | BW4: 1 | BZ4: 1 | CJ4: 1 | CO4: 1 | DH4: 1 | DJ4: 1 | DO4: 1 | DQ4: 1 | DR4: 1 | DU4: 1 | DZ4: 1 | EA4: 1 | EL4: 1 | ET4: 1 | GV4: 1 | HB4: 1 | HG4: 1 | HI4: 1 | HL4: 1 | HN4: 1 | HO4: =SUM(C4:HN4) -> 31
A5: 13 | B5: =CONCATENATE($A$2," ",A5) -> Небесный 13 | C5: 1 | AA5: 1 | AF5: 1 | AI5: 1 | AL5: 1 | AS5: 1 | BD5: 1 | BJ5: 1 | CZ5: 1 | DB5: 1 | DL5: 1 | DX5: 1 | GH5: 1 | GL5: 1 | HL5: 1 | HO5: =SUM(C5:HN5) -> 15
A6: 14 | B6: =CONCATENATE($A$2," ",A6) -> Небесный 14 | BU6: 1 | CG6: 1 | CJ6: 1 | CO6: 1 | DK6: 1 | DX6: 1 | FK6: 1 | FO6: 1 | HH6: 1 | HO6: =SUM(C6:HN6) -> 9
A7: 17 | B7: =CONCATENATE($A$2," ",A7) -> Небесный 17 | AS7: 1 | AT7: 1 | AX7: 1 | CJ7: 1 | CN7: 1 | DQ7: 1 | ER7: 1 | FO7: 1 | FP7: 1 | GP7: 1 | HL7: 1 | HO7: =SUM(C7:HN7) -> 11
A8: 18 | B8: =CONCATENATE($A$2," ",A8) -> Небесный 18 | M8: 2 | P8: 1 | V8: 1 | AH8: 1 | AI8: 1 | AL8: 1 | AS8: 1 | AU8: 1 | AX8: 1 | AZ8: 1 | BJ8: 1 | BY8: 1 | BZ8: 1 | CF8: 1 | CJ8: 1 | CN8: 1 | CT8: 1 | CV8: 1 | DB8: 1 | DO8: 1 | ED8: 1 | EM8: 1 | EQ8: 1 | EZ8: 1 | FB8: 1 | FI8: 1 | FQ8: 1 | GE8: 1 | GH8: 1 | GI8: 1 | GS8: 1 | HG8: 1 | HJ8: 1 | HO8: =SUM(C8:HN8) -> 34
A9: 30 | B9: =CONCATENATE($A$2," ",A9) -> Небесный 30 | BO9: 1 | BU9: 1 | CG9: 1 | CJ9: 1 | CN9: 1 | CV9: 1 | DH9: 1 | DV9: 1 | HO9: =SUM(C9:HN9) -> 8
A10: 31 | B10: =CONCATENATE($A$2," ",A10) -> Небесный 31 | AW10: 1 | BO10: 1 | BU10: 1 | ER10: 1 | HO10: =SUM(C10:HN10) -> 4
A11: Русские сезоны
A12: 14 | B12: =CONCATENATE($A$11," ",A12) -> Русские сезоны 14 | D12: 1 | I12: 1 | P12: 1 | S12: 1 | Y12: 1 | Z12: 1 | AA12: 1 | AM12: 1 | AU12: 1 | BG12: 1 | BH12: 1 | BK12: 1 | BL12: 1 | BP12: 1 | BR12: 1 | CE12: 1 | CG12: 1 | CJ12: 1 | CO12: 1 | CP12: 1 | CU12: 1 | CX12: 1 | DG12: 1 | DH12: 1 | DJ12: 1 | DK12: 1 | DV12: 1 | DX12: 1 | EA12: 1 | ED12: 1 | EH12: 1 | EI12: 1 | EJ12: 1 | EK12: 1 | EM12: 1 | EO12: 1 | ER12: 1 | EW12: 1 | FB12: 1 | FE12: 1 | FH12: 1 | FO12: 1 | FR12: 1 | FW12: 1 | FY12: 1 | GE12: 1 | GN12: 1 | GO12: 1 | GU12: 1 | GX12: 1 | HB12: 1 | HE12: 1 | HG12: 1 | HH12: 1 | HJ12: 1 | HL12: 1 | HO12: =SUM(C12:HN12) -> 56
A13: 16 | B13: =CONCATENATE($A$11," ",A13) -> Русские сезоны 16 | C13: 1 | W13: 1 | Z13: 1 | AB13: 1 | AM13: 1 | AR13: 1 | AW13: 1 | AX13: 1 | BG13: 1 | BN13: 1 | CF13: 1 | CJ13: 1 | CS13: 1 | CV13: 1 | CX13: 1 | DB13: 1 | DE13: 1 | DF13: 1 | DK13: 1 | DO13: 1 | DR13: 1 | EA13: 1 | EI13: 1 | ER13: 1 | EY13: 1 | EZ13: 1 | FK13: 1 | FM13: 1 | FO13: 1 | FP13: 1 | FR13: 1 | FX13: 1 | FY13: 1 | GA13: 1 | GP13: 1 | GV13: 1 | HJ13: 1 | HL13: 1 | HO13: =SUM(C13:HN13) -> 38
A14: 17 | B14: =CONCATENATE($A$11," ",A14) -> Русские сезоны 17 | J14: 1 | L14: 1 | AP14: 1 | AT14: 1 | AY14: 1 | BH14: 1 | BJ14: 1 | CG14: 1 | CH14: 1 | CJ14: 1 | CN14: 1 | CS14: 1 | DH14: 1 | DJ14: 1 | DS14: 1 | DV14: 1 | ES14: 1 | EY14: 1 | EZ14: 1 | FB14: 1 | FE14: 1 | FK14: 1 | FO14: 1 | FP14: 1 | FQ14: 1 | FS14: 1 | GR14: 1 | HB14: 1 | HG14: 1 | HH14: 1 | HJ14: 1 | HL14: 1 | HO14: =SUM(C14:HN14) -> 32
A15: 18 | B15: =CONCATENATE($A$11," ",A15) -> Русские сезоны 18 | L15: 1 | M15: 2 | Q15: 1 | V15: 1 | X15: 1 | AD15: 1 | AL15: 1 | AM15: 1 | AN15: 1 | AR15: 1 | AX15: 1 | BA15: 1 | BC15: 1 | BD15: 1 | BN15: 1 | BT15: 1 | BW15: 1 | BZ15: 1 | CF15: 1 | CH15: 1 | CJ15: 1 | CS15: 1 | CV15: 1 | CZ15: 1 | DB15: 1 | DE15: 1 | DF15: 1 | DG15: 1 | DO15: 1 | DP15: 1 | DQ15: 1 | DZ15: 1 | EA15: 1 | EL15: 1 | EP15: 1 | EQ15: 1 | ER15: 1 | ET15: 1 | FB15: 1 | FI15: 1 | FN15: 1 | FY15: 1 | GC15: 1 | GY15: 1 | HC15: 1 | HJ15: 1 | HN15: 1 | HO15: =SUM(C15:HN15) -> 48
A16: 19 | B16: =CONCATENATE($A$11," ",A16) -> Русские сезоны 19 | L16: 1 | M16: 2 | N16: 1 | V16: 1 | Z16: 1 | AD16: 1 | AI16: 1 | AL16: 1 | AT16: 1 | AU16: 1 | AX16: 1 | BE16: 1 | BG16: 1 | BP16: 1 | BZ16: 1 | CJ16: 1 | CL16: 1 | CR16: 1 | CS16: 1 | DA16: 1 | DB16: 1 | DC16: 1 | DK16: 1 | DN16: 1 | DS16: 1 | DV16: 1 | DX16: 1 | DY16: 1 | EA16: 1 | EI16: 1 | FB16: 1 | FK16: 1 | FO16: 1 | FP16: 1 | FR16: 1 | GA16: 1 | GI16: 1 | GK16: 1 | GP16: 1 | HJ16: 1 | HL16: 1 | HO16: =SUM(C16:HN16) -> 42
A17: Сиреневый туман
A18: 7 | B18: =CONCATENATE($A$17," ",A18) -> Сиреневый туман 7 | M18: 1 | Z18: 1 | AA18: 1 | AL18: 1 | AR18: 1 | AW18: 1 | AX18: 1 | AZ18: 1 | BJ18: 1 | BZ18: 1 | CF18: 1 | CG18: 1 | DC18: 1 | DL18: 1 | DS18: 1 | EU18: 1 | EZ18: 1 | FF18: 1 | FO18: 1 | FW18: 1 | HB18: 1 | HG18: 1 | HH18: 1 | HI18: 1 | HJ18: 1 | HM18: 1 | HO18: =SUM(C18:HN18) -> 26
A19: 14 | B19: =CONCATENATE($A$17," ",A19) -> Сиреневый туман 14 | M19: 1 | P19: 1 | V19: 1 | Y19: 1 | Z19: 1 | AE19: 1 | AL19: 1 | AT19: 1 | AU19: 1 | AX19: 1 | BA19: 1 | BE19: 1 | BN19: 1 | BO19: 1 | BW19: 1 | BZ19: 1 | CF19: 1 | CG19: 1 | CJ19: 1 | CK19: 1 | CO19: 1 | CP19: 1 | CU19: 1 | CV19: 1 | CW19: 1 | CX19: 1 | DA19: 1 | DB19: 1 | DG19: 1 | DH19: 1 | DO19: 1 | DT19: 1 | DU19: 1 | DX19: 1 | EA19: 1 | ED19: 1 | EH19: 1 | EQ19: 1 | ER19: 1 | ES19: 1 | ET19: 1 | EU19: 1 | EW19: 1 | FB19: 1 | FH19: 1 | FL19: 1 | FR19: 1 | FS19: 1 | FT19: 1 | FZ19: 1 | GE19: 1 | GG19: 1 | HG19: 1 | HH19: 1 | HJ19: 1 | HK19: 1 | HN19: 1 | HO19: =SUM(C19:HK19) -> 56
A20: 17 | B20: =CONCATENATE($A$17," ",A20) -> Сиреневый туман 17 | Z20: 1 | BJ20: 1 | BO20: 1 | CG20: 1 | CJ20: 1 | CU20: 1 | CX20: 1 | DG20: 1 | DJ20: 1 | ET20: 1 | FB20: 1 | FQ20: 1 | FT20: 1 | GC20: 1 | GK20: 1 | HD20: 1 | HH20: 1 | HO20: =SUM(C20:HN20) -> 17
A21: 18 | B21: =CONCATENATE($A$17," ",A21) -> Сиреневый туман 18 | AR21: 1 | BC21: 1 | BD21: 1 | BN21: 1 | CJ21: 1 | DH21: 1 | DO21: 1 | DV21: 1 | EA21: 1 | EJ21: 1 | ET21: 1 | GY21: 1 | HD21: 1 | HN21: 1 | HO21: =SUM(C21:HN21) -> 14
A22: 19 | B22: =CONCATENATE($A$17," ",A22) -> Сиреневый туман 19 | M22: 1 | U22: 1 | X22: 1 | Z22: 1 | AB22: 1 | AL22: 1 | AT22: 1 | AX22: 1 | AZ22: 1 | BJ22: 1 | BZ22: 1 | CG22: 1 | CJ22: 1 | CS22: 1 | CV22: 1 | DF22: 1 | DR22: 1 | DT22: 1 | DV22: 1 | EA22: 1 | ER22: 1 | ET22: 1 | EW22: 1 | FH22: 1 | FI22: 1 | FJ22: 1 | FO22: 1 | FP22: 1 | FR22: 1 | FZ22: 1 | GO22: 1 | GV22: 1 | HJ22: 1 | HL22: 1 | HO22: =SUM(C22:HN22) -> 34
A23: Лирика
A24: 13 | B24: =CONCATENATE($A$23," ",A24) -> Лирика 13 | BJ24: 1 | CQ24: 1 | CT24: 1 | ED24: 1 | FR24: 1 | GU24: 1 | HG24: 1 | HJ24: 1 | HO24: =SUM(C24:HN24) -> 8
A25: 18 | B25: =CONCATENATE($A$23," ",A25) -> Лирика 18 | O25: 1 | AA25: 1 | BH25: 1 | BJ25: 1 | BL25: 1 | BO25: 1 | BS25: 1 | CQ25: 1 | DH25: 1 | DZ25: 1 | EZ25: 1 | FF25: 1 | FO25: 1 | FR25: 1 | FS25: 1 | GK25: 1 | GS25: 1 | GV25: 1 | HJ25: 1 | HO25: =SUM(C25:HN25) -> 19
A26: 19 | B26: =CONCATENATE($A$23," ",A26) -> Лирика 19 | C26: 1 | P26: 1 | Q26: 1 | V26: 1 | X26: 1 | Y26: 1 | Z26: 1 | AI26: 1 | AJ26: 1 | AR26: 1 | AW26: 1 | BC26: 1 | BG26: 1 | BJ26: 1 | BM26: 1 | BP26: 1 | BR26: 1 | BX26: 1 | BZ26: 1 | CF26: 2 | CJ26: 1 | CO26: 1 | CP26: 1 | CQ26: 1 | CV26: 1 | CX26: 1 | DB26: 1 | DE26: 1 | DH26: 1 | DJ26: 1 | DL26: 1 | DO26: 1 | DS26: 1 | DT26: 1 | ED26: 1 | EH26: 1 | EL26: 1 | EM26: 1 | EN26: 1 | ER26: 1 | ES26: 1 | ET26: 1 | EX26: 1 | FB26: 1 | FD26: 1 | FO26: 1 | FP26: 1 | FQ26: 1 | FR26: 1 | FW26: 1 | FX26: 1 | FY26: 1 | GC26: 2 | GE26: 1 | GI26: 1 | GN26: 1 | GO26: 1 | GR26: 1 | GW26: 1 | HD26: 1 | HG26: 1 | HH26: 1 | HJ26: 1 | HO26: =SUM(C26:HN26) -> 65
A27: Лунный свет
A28: 3 | B28: =CONCATENATE($A$27," ",A28) -> Лунный свет 3 | U28: 1 | BB28: 1 | CG28: 1 | CH28: 1 | DL28: 1 | EA28: 1 | FG28: 1 | FR28: 1 | GV28: 1 | HJ28: 1 | HO28: =SUM(C28:HN28) -> 10
A29: 7 | B29: =CONCATENATE($A$27," ",A29) -> Лунный свет 7 | AS29: 1 | BG29: 1 | BJ29: 1 | BO29: 1 | EG29: 1 | EY29: 1 | FD29: 1 | FE29: 1 | GF29: 1 | HL29: 1 | HO29: =SUM(C29:HN29) -> 10
A30: 8 | B30: =CONCATENATE($A$27," ",A30) -> Лунный свет 8 | P30: 1 | Q30: 1 | X30: 1 | AF30: 1 | AS30: 1 | AT30: 1 | AU30: 1 | AX30: 1 | BB30: 1 | BG30: 1 | BO30: 1 | BV30: 1 | BZ30: 1 | CG30: 1 | CH30: 1 | CJ30: 1 | CK30: 1 | CP30: 1 | CS30: 1 | CV30: 1 | DA30: 1 | DE30: 1 | DF30: 1 | DJ30: 1 | DO30: 1 | DQ30: 1 | DV30: 1 | DW30: 1 | EA30: 1 | EI30: 1 | EL30: 1 | EM30: 1 | EN30: 1 | EQ30: 1 | ES30: 1 | EU30: 1 | EY30: 1 | FJ30: 1 | FM30: 1 | FN30: 1 | FO30: 1 | FR30: 1 | GM30: 1 | GR30: 1 | HG30: 1 | HN30: 1 | HO30: =SUM(C30:HN30) -> 46
A31: 15 | B31: =CONCATENATE($A$27," ",A31) -> Лунный свет 15 | DG31: 1 | FR31: 1 | HO31: =SUM(C31:HN31) -> 2
A32: 18 | B32: =CONCATENATE($A$27," ",A32) -> Лунный свет 18 | D32: 1 | L32: 1 | BG32: 1 | BI32: 1 | BJ32: 1 | BO32: 1 | BX32: 1 | CU32: 1 | CY32: 1 | DB32: 1 | DQ32: 1 | EA32: 1 | ED32: 1 | EI32: 1 | FP32: 1 | HL32: 1 | HO32: =SUM(C32:HN32) -> 16
A33: 19 | B33: =CONCATENATE($A$27," ",A33) -> Лунный свет 19 | L33: 1 | AL33: 1 | AS33: 1 | AT33: 1 | AW33: 1 | AX33: 1 | AZ33: 1 | BH33: 1 | BO33: 1 | BX33: 1 | BZ33: 1 | CG33: 1 | CJ33: 1 | CL33: 1 | CS33: 1 | DQ33: 1 | EY33: 1 | FO33: 1 | FQ33: 1 | GM33: 1 | HB33: 1 | HG33: 1 | HH33: 1 | HL33: 1 | HO33: =SUM(C33:HN33) -> 24
A34: 20 | B34: =CONCATENATE($A$27," ",A34) -> Лунный свет 20 | I34: 1 | M34: 1 | AL34: 1 | AS34: 1 | AZ34: 1 | BB34: 1 | BG34: 1 | BJ34: 1 | BN34: 1 | BZ34: 1 | CK34: 1 | CS34: 1 | CT34: 1 | CV34: 1 | DD34: 1 | DJ34: 1 | DL34: 1 | EA34: 1 | ED34: 1 | FL34: 1 | HB34: 1 | HG34: 1 | HL34: 1 | HO34: =SUM(C34:HN34) -> 23
A35: 21 | B35: =CONCATENATE($A$27," ",A35) -> Лунный свет 21 | C35: 1 | G35: 1 | M35: 1 | N35: 1 | P35: 1 | U35: 1 | X35: 1 | AH35: 1 | AL35: 1 | AP35: 1 | AT35: 1 | AZ35: 1 | BJ35: 1 | BN35: 1 | BS35: 1 | BT35: 1 | BZ35: 1 | CE35: 1 | CG35: 1 | CJ35: 1 | CP35: 1 | CT35: 1 | CU35: 1 | DB35: 1 | DE35: 1 | DQ35: 1 | DV35: 1 | DW35: 1 | EA35: 1 | EB35: 1 | EC35: 1 | EL35: 1 | ET35: 1 | EU35: 1 | FB35: 1 | FG35: 1 | FI35: 1 | FL35: 1 | FP35: 1 | FR35: 1 | FT35: 1 | FX35: 1 | GF35: 1 | GK35: 1 | GL35: 1 | GN35: 1 | GR35: 1 | HB35: 1 | HD35: 1 | HJ35: 1 | HN35: 2 | HO35: =SUM(C35:HN35) -> 52
A36: Боярыня
A37: 10 | B37: =CONCATENATE($A$36," ",A37) -> Боярыня 10 | H37: 1 | Q37: 1 | U37: 1 | AI37: 1 | AL37: 1 | AS37: 1 | AT37: 1 | CA37: 1 | CH37: 1 | CS37: 1 | DH37: 1 | FR37: 1 | FV37: 1 | GA37: 1 | GH37: 1 | GL37: 1 | HO37: =SUM(C37:HN37) -> 16
A38: 12 | B38: =CONCATENATE($A$36," ",A38) -> Боярыня 12 | C38: 1 | U38: 1 | X38: 1 | AS38: 1 | BO38: 1 | BT38: 1 | CA38: 1 | CG38: 1 | CK38: 1 | CS38: 1 | DX38: 1 | DZ38: 1 | EA38: 1 | EN38: 1 | ER38: 1 | FH38: 1 | FR38: 1 | GH38: 1 | HG38: 1 | HH38: 1 | HJ38: 1 | HO38: =SUM(C38:HN38) -> 21
A39: 18 | B39: =CONCATENATE($A$36," ",A39) -> Боярыня 18 | U39: 1 | AY39: 1 | BJ39: 1 | DB39: 1 | HO39: =SUM(C39:HN39) -> 4
A40: 19 | B40: =CONCATENATE($A$36," ",A40) -> Боярыня 19 | D40: 1 | U40: 1 | AG40: 1 | AS40: 1 | AT40: 1 | AY40: 1 | BS40: 1 | CG40: 1 | CI40: 1 | DG40: 1 | DL40: 1 | DX40: 1 | EA40: 1 | EH40: 1 | EI40: 1 | FR40: 1 | FZ40: 1 | GB40: 1 | HJ40: 1 | HL40: 1 | HO40: =SUM(C40:HN40) -> 20
A41: 20 | B41: =CONCATENATE($A$36," ",A41) -> Боярыня 20 | H41: 1 | U41: 1 | AS41: 1 | AX41: 1 | AZ41: 1 | BN41: 1 | BO41: 1 | CF41: 1 | DO41: 1 | DQ41: 1 | DV41: 1 | FD41: 1 | FE41: 1 | HG41: 1 | HO41: =SUM(C41:HN41) -> 14
A42: 21 | B42: =CONCATENATE($A$36," ",A42) -> Боярыня 21 | W42: 1 | X42: 1 | BN42: 1 | BO42: 1 | BZ42: 1 | CF42: 1 | CG42: 1 | CU42: 1 | CX42: 1 | DJ42: 1 | DW42: 1 | FY42: 1 | HL42: 1 | HN42: 1 | HO42: =SUM(C42:HN42) -> 14
A43: 22 | B43: =CONCATENATE($A$36," ",A43) -> Боярыня 22 | U43: 1 | V43: 1 | X43: 1 | BX43: 1 | CS43: 1 | CT43: 1 | DG43: 1 | DO43: 1 | DV43: 1 | EC43: 1 | EL43: 1 | FH43: 1 | FR43: 1 | FY43: 1 | GE43: 1 | GL43: 1 | GO43: 1 | HB43: 1 | HG43: 1 | HJ43: 1 | HN43: 1 | HO43: =SUM(C43:HN43) -> 21
A44: 23 | B44: =CONCATENATE($A$36," ",A44) -> Боярыня 23 | C44: 1 | J44: 1 | R44: 1 | U44: 1 | X44: 1 | AY44: 1 | BN44: 1 | CF44: 1 | CG44: 1 | CS44: 1 | CX44: 1 | DL44: 1 | DV44: 1 | EA44: 1 | EN44: 1 | ER44: 1 | FA44: 1 | FH44: 1 | FP44: 1 | FR44: 1 | GR44: 1 | GV44: 1 | HO44: =SUM(C44:HN44) -> 22
A45: 24 | B45: =CONCATENATE($A$36," ",A45) -> Боярыня 24 | F45: 1 | R45: 1 | U45: 1 | W45: 1 | X45: 1 | AC45: 1 | AJ45: 1 | AS45: 1 | AT45: 1 | AW45: 1 | AY45: 1 | BN45: 1 | BO45: 1 | CF45: 1 | CG45: 1 | CK45: 1 | CN45: 1 | CS45: 1 | CT45: 1 | CV45: 1 | CZ45: 1 | DE45: 1 | DL45: 1 | DQ45: 1 | DV45: 1 | ED45: 1 | EG45: 1 | FB45: 1 | FJ45: 1 | FQ45: 1 | GI45: 1 | GM45: 1 | GR45: 1 | HB45: 1 | HG45: 1 | HH45: 1 | HL45: 1 | HO45: =SUM(C45:HN45) -> 37
A46: 25 | B46: =CONCATENATE($A$36," ",A46) -> Боярыня 25 | C46: 1 | U46: 1 | X46: 1 | AL46: 1 | AP46: 1 | AT46: 1 | AV46: 1 | BB46: 1 | BC46: 1 | BD46: 1 | BJ46: 1 | BN46: 1 | BT46: 1 | BY46: 1 | BZ46: 1 | CG46: 1 | CR46: 1 | CS46: 1 | CX46: 1 | DB46: 1 | DH46: 1 | DJ46: 1 | DK46: 1 | DO46: 1 | DT46: 1 | DV46: 1 | DW46: 1 | DY46: 1 | EA46: 1 | EE46: 1 | EM46: 1 | EQ46: 1 | ER46: 1 | FB46: 1 | FM46: 1 | FX46: 1 | GA46: 1 | GH46: 1 | GL46: 1 | GT46: 1 | HA46: 1 | HJ46: 1 | HL46: 1 | HN46: 1 | HO46: =SUM(C46:HN46) -> 44
A47: Посадский
A48: 7 | B48: =CONCATENATE($A$47," ",A48) -> Посадский 7 | H48: 1 | O48: 1 | U48: 1 | AC48: 1 | AT48: 1 | AZ48: 1 | BB48: 1 | BM48: 1 | BN48: 1 | BZ48: 1 | CC48: 1 | CG48: 1 | CH48: 1 | CZ48: 1 | DM48: 2 | DN48: 1 | DO48: 1 | DQ48: 1 | DV48: 2 | EA48: 1 | EL48: 1 | EV48: 1 | EY48: 1 | FP48: 1 | FY48: 1 | GD48: 1 | GO48: 1 | GR48: 1 | GZ48: 1 | HB48: 1 | HG48: 1 | HH48: 1 | HJ48: 1 | HL48: 1 | HN48: 1 | HO48: =SUM(C48:HN48) -> 37
A49: 10 | B49: =CONCATENATE($A$47," ",A49) -> Посадский 10 | F49: 1 | X49: 1 | Z49: 1 | AJ49: 1 | BW49: 1 | CF49: 1 | CG49: 1 | CI49: 1 | CJ49: 1 | CV49: 1 | DB49: 1 | DJ49: 1 | DX49: 1 | ER49: 1 | FB49: 1 | FH49: 1 | FQ49: 1 | HG49: 1 | HH49: 1 | HO49: =SUM(C49:HN49) -> 19
A50: 14 | B50: =CONCATENATE($A$47," ",A50) -> Посадский 14 | F50: 1 | I50: 1 | O50: 1 | Q50: 1 | S50: 1 | V50: 1 | X50: 1 | Y50: 1 | AH50: 1 | AR50: 1 | AU50: 1 | AX50: 1 | AZ50: 1 | BC50: 1 | BD50: 1 | BG50: 1 | BI50: 1 | BJ50: 1 | BM50: 1 | BN50: 1 | BO50: 1 | BT50: 1 | BV50: 1 | BW50: 1 | BX50: 1 | BZ50: 1 | CD50: 1 | CG50: 1 | CI50: 1 | CJ50: 1 | CM50: 1 | CR50: 1 | CV50: 1 | CW50: 1 | CX50: 1 | CY50: 1 | DB50: 1 | DG50: 2 | DH50: 1 | DJ50: 1 | DO50: 1 | DP50: 1 | DT50: 1 | DV50: 1 | DX50: 1 | EC50: 1 | ED50: 1 | EE50: 1 | EJ50: 1 | EL50: 1 | EQ50: 1 | ES50: 1 | ET50: 1 | EU50: 1 | EX50: 1 | EY50: 1 | FB50: 1 | FC50: 1 | FF50: 1 | FH50: 1 | FI50: 1 | FL50: 1 | FM50: 1 | FN50: 1 | FO50: 1 | FP50: 1 | FR50: 1 | FT50: 1 | FY50: 1 | GC50: 1 | GG50: 1 | GK50: 1 | GL50: 1 | GO50: 1 | GT50: 1 | GU50: 1 | GV50: 1 | GW50: 1 | GY50: 1 | HA50: 1 | HE50: 1 | HF50: 1 | HG50: 1 | HH50: 1 | HJ50: 1 | HM50: 1 | HN50: 1 | HO50: =SUM(C50:HN50) -> 88
A51: 18 | B51: =CONCATENATE($A$47," ",A51) -> Посадский 18 | F51: 1 | Y51: 1 | AI51: 1 | AJ51: 1 | AL51: 1 | AP51: 1 | AT51: 1 | AX51: 1 | AZ51: 1 | BJ51: 1 | BV51: 1 | BX51: 1 | CJ51: 1 | CT51: 1 | DB51: 1 | DN51: 1 | ED51: 1 | EM51: 1 | ER51: 1 | FK51: 1 | FR51: 1 | GI51: 1 | HD51: 1 | HJ51: 1 | HL51: 1 | HO51: =SUM(C51:HN51) -> 25
A52: Печатный пряник
A53: 18 | B53: =CONCATENATE($A$52," ",A53) -> Печатный пряник 18 | E53: 1 | F53: 1 | J53: 1 | L53: 1 | M53: 1 | Q53: 1 | R53: 1 | U53: 1 | V53: 1 | W53: 1 | X53: 1 | AD53: 1 | AE53: 1 | AJ53: 1 | AL53: 1 | AR53: 1 | AT53: 1 | AX53: 1 | AY53: 1 | AZ53: 1 | BB53: 1 | BG53: 1 | BJ53: 1 | BL53: 1 | BM53: 1 | BN53: 1 | BU53: 1 | BX53: 1 | BY53: 1 | BZ53: 1 | CE53: 1 | CF53: 1 | CH53: 1 | CP53: 1 | CT53: 1 | CU53: 1 | CV53: 1 | CY53: 1 | DD53: 1 | DG53: 2 | DJ53: 1 | DL53: 1 | DN53: 1 | DO53: 1 | DP53: 1 | DR53: 1 | DT53: 1 | DV53: 1 | DX53: 1 | EA53: 1 | EB53: 1 | EC53: 1 | ED53: 1 | EH53: 1 | EJ53: 1 | EK53: 1 | EL53: 1 | EM53: 1 | EN53: 1 | EP53: 1 | EQ53: 1 | ER53: 1 | ET53: 1 | EV53: 1 | EX53: 1 | EY53: 1 | FA53: 1 | FB53: 1 | FG53: 1 | FJ53: 1 | FM53: 1 | FP53: 1 | FQ53: 1 | FR53: 1 | FU53: 1 | FX53: 1 | FY53: 1 | GE53: 1 | GM53: 1 | GU53: 1 | GW53: 1 | GY53: 1 | HB53: 1 | HE53: 1 | HF53: 1 | HG53: 1 | HH53: 1 | HJ53: 1 | HK53: 1 | HL53: 1 | HO53: =SUM(C53:HL53) -> 91
A54: 19 | B54: =CONCATENATE($A$52," ",A54) -> Печатный пряник 19 | G54: 1 | H54: 1 | I54: 1 | J54: 1 | K54: 1 | M54: 1 | N54: 1 | O54: 1 | Q54: 1 | R54: 1 | S54: 1 | X54: 1 | AB54: 1 | AD54: 1 | AE54: 1 | AH54: 1 | AI54: 1 | AK54: 1 | AL54: 1 | AO54: 1 | AR54: 1 | AW54: 1 | AX54: 1 | BA54: 1 | BB54: 1 | BC54: 1 | BD54: 1 | BE54: 1 | BF54: 1 | BG54: 1 | BJ54: 1 | BL54: 1 | BM54: 1 | BN54: 1 | BQ54: 1 | BT54: 1 | BU54: 1 | BV54: 1 | BX54: 1 | BZ54: 1 | CA54: 1 | CH54: 1 | CP54: 1 | CR54: 1 | CV54: 1 | CW54: 1 | DA54: 1 | DB54: 1 | DE54: 1 | DJ54: 1 | DK54: 1 | DN54: 1 | DP54: 1 | DS54: 1 | DT54: 1 | DV54: 1 | DY54: 1 | EA54: 1 | EB54: 1 | EE54: 1 | EH54: 1 | EI54: 1 | EK54: 1 | EL54: 1 | EO54: 1 | ER54: 1 | ET54: 1 | EW54: 1 | EX54: 1 | EY54: 1 | FA54: 1 | FB54: 1 | FC54: 1 | FG54: 1 | FH54: 1 | FK54: 1 | FN54: 1 | FR54: 1 | FU54: 1 | FX54: 1 | GA54: 1 | GB54: 1 | GC54: 1 | GG54: 1 | GH54: 1 | GR54: 1 | GT54: 1 | GV54: 1 | GW54: 1 | GY54: 1 | HG54: 1 | HH54: 1 | HJ54: 1 | HN54: 1 | HO54: =SUM(C54:HN54) -> 94
A55: 20 | B55: =CONCATENATE($A$52," ",A55) -> Печатный пряник 20 | M55: 1 | R55: 1 | X55: 1 | AI55: 1 | AL55: 1 | AR55: 1 | AS55: 1 | AX55: 1 | AZ55: 1 | BL55: 1 | BU55: 1 | BZ55: 1 | CF55: 1 | CN55: 1 | CP55: 1 | CS55: 1 | DV55: 1 | ED55: 1 | EH55: 1 | ER55: 1 | ET55: 1 | FP55: 1 | FR55: 1 | GA55: 1 | GI55: 1 | GW55: 1 | HJ55: 1 | HL55: 1 | HO55: =SUM(C55:HN55) -> 28
A56: Рябина
A57: 7 | B57: =CONCATENATE($A$56," ",A57) -> Рябина 7 | Q57: 1 | AQ57: 1 | AX57: 1 | BG57: 1 | CT57: 1 | CW57: 1 | EA57: 1 | EG57: 1 | EO57: 1 | FA57: 1 | FG57: 1 | FH57: 1 | GA57: 1 | GR57: 1 | HD57: 1 | HG57: 1 | HL57: 1 | HO57: =SUM(C57:HN57) -> 17
A58: 9 | B58: =CONCATENATE($A$56," ",A58) -> Рябина 9 | BO58: 1 | CD58: 1 | CU58: 1 | EA58: 1 | HC58: 1 | HO58: =SUM(C58:HN58) -> 5
A59: 18 | B59: =CONCATENATE($A$56," ",A59) -> Рябина 18 | BD59: 1 | BG59: 1 | BJ59: 1 | BM59: 1 | BO59: 1 | CN59: 1 | CS59: 1 | EO59: 1 | FB59: 1 | GJ59: 1 | GR59: 1 | HG59: 1 | HJ59: 1 | HL59: 1 | HO59: =SUM(C59:HN59) -> 14
A60: 19 | B60: =CONCATENATE($A$56," ",A60) -> Рябина 19 | D60: 1 | R60: 1 | AD60: 1 | AF60: 1 | AI60: 1 | AX60: 1 | BB60: 1 | BC60: 1 | BD60: 1 | BG60: 1 | CH60: 1 | CJ60: 1 | DB60: 1 | DL60: 1 | DN60: 1 | DR60: 1 | DV60: 1 | EA60: 1 | EC60: 1 | EJ60: 1 | EO60: 1 | FJ60: 1 | FP60: 1 | FR60: 1 | FY60: 1 | GA60: 1 | GR60: 1 | GV60: 1 | HD60: 1 | HJ60: 1 | HO60: =SUM(C60:HN60) -> 30
A61: 20 | B61: =CONCATENATE($A$56," ",A61) -> Рябина 20 | AX61: 1 | BG61: 1 | CG61: 1 | CS61: 1 | FH61: 1 | GR61: 1 | HO61: =SUM(C61:HN61) -> 6
A62: 21 | B62: =CONCATENATE($A$56," ",A62) -> Рябина 21 | BD62: 1 | BO62: 1 | CJ62: 1 | CM62: 1 | CP62: 1 | CU62: 1 | CV62: 1 | DV62: 1 | EL62: 1 | EN62: 1 | EO62: 1 | FQ62: 1 | FY62: 1 | GR62: 1 | HO62: =SUM(C62:HN62) -> 14
A63: 22 | B63: =CONCATENATE($A$56," ",A63) -> Рябина 22 | D63: 1 | L63: 1 | N63: 1 | P63: 1 | R63: 1 | AI63: 1 | BA63: 1 | BC63: 1 | BE63: 1 | BG63: 1 | CA63: 1 | CG63: 1 | CP63: 1 | CS63: 1 | DB63: 1 | DF63: 1 | DH63: 1 | DJ63: 1 | DT63: 1 | DV63: 1 | DW63: 1 | DY63: 1 | EA63: 1 | EI63: 2 | EO63: 1 | FP63: 1 | FR63: 1 | FU63: 1 | FX63: 1 | FY63: 1 | FZ63: 1 | GA63: 1 | GB63: 1 | GG63: 1 | GM63: 1 | GR63: 1 | HI63: 1 | HJ63: 1 | HO63: =SUM(C63:HN63) -> 39
A64: 27 | B64: =CONCATENATE($A$56," ",A64) -> Рябина 27 | F64: 1 | G64: 1 | J64: 1 | L64: 1 | P64: 1 | Q64: 1 | R64: 1 | T64: 1 | V64: 1 | AC64: 1 | AH64: 1 | AN64: 1 | AP64: 1 | AQ64: 1 | AT64: 1 | AW64: 1 | AX64: 1 | BA64: 1 | BB64: 1 | BC64: 1 | BD64: 1 | BE64: 1 | BF64: 1 | BG64: 1 | BJ64: 1 | BM64: 1 | BN64: 1 | BO64: 1 | BS64: 1 | BY64: 1 | BZ64: 1 | CA64: 1 | CG64: 1 | CH64: 1 | CJ64: 1 | CM64: 1 | CP64: 1 | CR64: 1 | CS64: 1 | CU64: 1 | CV64: 1 | DE64: 1 | DF64: 1 | DH64: 1 | DJ64: 1 | DK64: 1 | DN64: 1 | DP64: 1 | DR64: 1 | DV64: 1 | EA64: 1 | EC64: 1 | EE64: 1 | EF64: 1 | EI64: 1 | EM64: 1 | EN64: 1 | EO64: 1 | FA64: 1 | FB64: 1 | FC64: 1 | FN64: 1 | FQ64: 1 | FR64: 1 | FU64: 1 | FX64: 1 | FY64: 1 | GA64: 1 | GG64: 1 | GI64: 1 | GO64: 1 | GR64: 1 | GT64: 1 | GW64: 1 | HG64: 1 | HJ64: 1 | HL64: 1 | HN64: 1 | HO64: =SUM(C64:HN64) -> 78
A65: Казачка
A66: 7 | B66: =CONCATENATE($A$65," ",A66) -> Казачка 7 | E66: 1 | BG66: 1 | BO66: 1 | CT66: 1 | CW66: 1 | EU66: 1 | FF66: 1 | HO66: =SUM(C66:HN66) -> 7
A67: 16 | B67: =CONCATENATE($A$65," ",A67) -> Казачка 16 | BJ67: 1 | BZ67: 1 | CG67: 1 | EI67: 1 | EJ67: 1 | HO67: =SUM(C67:HN67) -> 5
A68: 17 | B68: =CONCATENATE($A$65," ",A68) -> Казачка 17 | AJ68: 1 | AQ68: 1 | AX68: 1 | CK68: 1 | CT68: 1 | CV68: 1 | EF68: 1 | ES68: 1 | FQ68: 1 | HO68: =SUM(C68:HN68) -> 9
A69: 19 | B69: =CONCATENATE($A$65," ",A69) -> Казачка 19 | F69: 1 | V69: 1 | AN69: 1 | BG69: 1 | BO69: 1 | BX69: 1 | BZ69: 1 | CM69: 1 | CN69: 1 | DB69: 1 | DJ69: 1 | DX69: 1 | ED69: 1 | EE69: 1 | ET69: 1 | FB69: 1 | FP69: 1 | FR69: 1 | GO69: 1 | GQ69: 1 | GY69: 1 | HA69: 1 | HO69: =SUM(C69:HN69) -> 22
A70: Летние фантазии
A71: 3 | B71: =CONCATENATE($A$70," ",A71) -> Летние фантазии 3 | J71: 1 | Q71: 1 | AJ71: 1 | AS71: 1 | BJ71: 1 | BO71: 1 | BS71: 1 | BZ71: 1 | CD71: 1 | CJ71: 1 | CT71: 1 | CV71: 1 | DH71: 1 | DJ71: 1 | DL71: 1 | DO71: 1 | EK71: 1 | EN71: 1 | FH71: 1 | FR71: 1 | HG71: 1 | HO71: =SUM(C71:HN71) -> 21
A72: 18 | B72: =CONCATENATE($A$70," ",A72) -> Летние фантазии 18 | I72: 1 | O72: 1 | Q72: 1 | U72: 1 | AJ72: 1 | AT72: 1 | AX72: 1 | BA72: 1 | BD72: 1 | BF72: 1 | BJ72: 1 | BN72: 1 | BZ72: 1 | CJ72: 1 | CP72: 1 | CR72: 1 | CV72: 1 | DH72: 1 | DV72: 1 | DX72: 1 | EE72: 1 | EK72: 1 | EL72: 1 | EM72: 1 | FB72: 1 | FH72: 1 | FP72: 1 | FR72: 1 | GA72: 1 | GM72: 1 | GR72: 1 | HJ72: 1 | HO72: =SUM(C72:HN72) -> 32
A73: Караван
A74: 0 | B74: =CONCATENATE($A$73," ",A74) -> Караван 0 | Y74: 1 | AE74: 1 | BG74: 1 | BJ74: 1 | BN74: 1 | BU74: 1 | BZ74: 1 | CP74: 1 | CT74: 1 | DL74: 1 | DS74: 1 | DV74: 1 | DX74: 1 | DZ74: 1 | EA74: 1 | EB74: 1 | ER74: 1 | ET74: 2 | FB74: 1 | FG74: 1 | FO74: 1 | FR74: 1 | FT74: 1 | GB74: 1 | HE74: 1 | HG74: 1 | HI74: 1 | HJ74: 1 | HL74: 1 | HO74: =SUM(C74:HN74) -> 30
A75: 2 | B75: =CONCATENATE($A$73," ",A75) -> Караван 2 | O75: 1 | AL75: 1 | AP75: 1 | BG75: 1 | BJ75: 1 | BR75: 1 | CQ75: 1 | CY75: 1 | DI75: 1 | ED75: 1 | FB75: 1 | FJ75: 1 | FQ75: 1 | FR75: 1 | FU75: 1 | HG75: 1 | HJ75: 1 | HL75: 1 | HO75: =SUM(C75:HN75) -> 18
A76: 5 | B76: =CONCATENATE($A$73," ",A76) -> Караван 5 | H76: 1 | M76: 1 | O76: 1 | P76: 1 | Q76: 1 | U76: 1 | AE76: 1 | AZ76: 1 | BK76: 1 | BL76: 1 | BR76: 1 | BS76: 1 | BZ76: 1 | CY76: 1 | DB76: 1 | DJ76: 1 | DX76: 1 | EA76: 1 | EK76: 1 | FP76: 1 | FR76: 1 | FW76: 1 | GB76: 1 | HG76: 1 | HJ76: 1 | HL76: 1 | HO76: =SUM(C76:HN76) -> 26
A77: 7 | B77: =CONCATENATE($A$73," ",A77) -> Караван 7 | E77: 1 | U77: 1 | V77: 1 | W77: 1 | AD77: 1 | AM77: 1 | AS77: 1 | BM77: 1 | BU77: 1 | BV77: 1 | BZ77: 1 | CT77: 1 | CU77: 1 | CV77: 1 | DG77: 1 | DJ77: 1 | DX77: 1 | DZ77: 1 | EK77: 1 | EL77: 1 | ET77: 1 | FH77: 1 | FO77: 1 | GY77: 1 | HG77: 1 | HH77: 1 | HN77: 1 | HO77: =SUM(C77:HN77) -> 27
A78: 9 | B78: =CONCATENATE($A$73," ",A78) -> Караван 9 | O78: 1 | ET78: 1 | HO78: =SUM(C78:HN78) -> 2
A79: 10 | B79: =CONCATENATE($A$73," ",A79) -> Караван 10 | W79: 1 | AD79: 1 | AK79: 1 | AS79: 1 | AW79: 1 | BJ79: 1 | BM79: 1 | BQ79: 1 | BR79: 1 | BZ79: 1 | CA79: 1 | CG79: 1 | CR79: 1 | CV79: 1 | DB79: 1 | DJ79: 1 | DO79: 1 | DX79: 1 | EL79: 1 | EQ79: 1 | ER79: 1 | ET79: 1 | FR79: 1 | GM79: 1 | GZ79: 1 | HG79: 1 | HJ79: 1 | HN79: 1 | HO79: =SUM(C79:HN79) -> 28
A80: 14 | B80: =CONCATENATE($A$73," ",A80) -> Караван 14 | D80: 1 | E80: 1 | P80: 1 | S80: 1 | W80: 1 | AA80: 1 | AD80: 1 | AE80: 1 | AI80: 1 | AM80: 1 | BG80: 1 | BL80: 1 | BQ80: 1 | BS80: 1 | BU80: 1 | BY80: 1 | BZ80: 1 | CB80: 1 | CG80: 1 | CT80: 1 | CU80: 1 | DB80: 1 | DD80: 1 | DG80: 2 | DS80: 1 | DX80: 1 | DZ80: 1 | EA80: 1 | EE80: 1 | EK80: 1 | EQ80: 1 | ER80: 1 | ET80: 2 | FF80: 1 | FG80: 1 | FL80: 1 | FO80: 1 | FR80: 1 | GH80: 1 | HB80: 1 | HG80: 1 | HK80: 1 | HO80: =SUM(C80:HN80) -> 44
A81: 30 | B81: =CONCATENATE($A$73," ",A81) -> Караван 30 | C81: 1 | I81: 1 | J81: 1 | M81: 1 | O81: 1 | P81: 1 | Q81: 1 | S81: 1 | Z81: 1 | AA81: 1 | AD81: 1 | AE81: 1 | AK81: 1 | AL81: 1 | AM81: 1 | AO81: 1 | AU81: 1 | AX81: 1 | BH81: 1 | BL81: 1 | BM81: 1 | BN81: 1 | BP81: 1 | BQ81: 1 | BS81: 1 | BU81: 1 | BV81: 1 | BZ81: 1 | CB81: 1 | CD81: 1 | CG81: 1 | CJ81: 1 | CO81: 1 | CQ81: 1 | CT81: 1 | CX81: 1 | DD81: 2 | DE81: 1 | DG81: 1 | DI81: 1 | DJ81: 1 | DK81: 1 | DO81: 1 | DP81: 1 | DV81: 1 | DX81: 1 | EJ81: 1 | EL81: 1 | EN81: 1 | EQ81: 1 | ER81: 1 | ET81: 1 | EW81: 1 | EX81: 1 | FA81: 1 | FB81: 1 | FC81: 1 | FF81: 1 | FH81: 1 | FL81: 1 | FM81: 1 | FN81: 1 | FO81: 1 | FQ81: 1 | FT81: 1 | GE81: 1 | GI81: 1 | GW81: 1 | GY81: 1 | HD81: 1 | HE81: 1 | HG81: 1 | HH81: 1 | HJ81: 1 | HN81: 1 | HO81: =SUM(C81:HN81) -> 76
A82: Рябинушка
A83: 0 | B83: =CONCATENATE($A$82," ",A83) -> Рябинушка 0 | BH83: 1 | BJ83: 1 | DG83: 1 | DO83: 1 | FG83: 1 | FR83: 1 | FS83: 1 | FT83: 1 | HG83: 1 | HO83: =SUM(C83:HN83) -> 9
A84: 5 | B84: =CONCATENATE($A$82," ",A84) -> Рябинушка 5 | BJ84: 1 | CQ84: 1 | FR84: 1 | FT84: 1 | HO84: =SUM(C84:HN84) -> 4
A85: 7 | B85: =CONCATENATE($A$82," ",A85) -> Рябинушка 7 | Q85: 1 | BG85: 1 | BJ85: 1 | BZ85: 1 | CV85: 1 | EJ85: 1 | EN85: 1 | FT85: 1 | HD85: 1 | HG85: 1 | HN85: 1 | HO85: =SUM(C85:HN85) -> 11
A86: 10 | B86: =CONCATENATE($A$82," ",A86) -> Рябинушка 10 | BJ86: 1 | BO86: 1 | CQ86: 1 | CV86: 1 | ET86: 1 | FT86: 1 | HL86: 1 | HO86: =SUM(C86:HN86) -> 7
A87: 13 | B87: =CONCATENATE($A$82," ",A87) -> Рябинушка 13 | BO87: 1 | FG87: 1 | HO87: =SUM(C87:HN87) -> 2
A88: 15 | B88: =CONCATENATE($A$82," ",A88) -> Рябинушка 15 | U88: 1 | BO88: 1 | CQ88: 1 | CY88: 1 | DG88: 1 | DQ88: 1 | ED88: 1 | FJ88: 1 | HO88: =SUM(C88:HN88) -> 8
A89: 18 | B89: =CONCATENATE($A$82," ",A89) -> Рябинушка 18 | D89: 1 | L89: 1 | M89: 1 | P89: 1 | U89: 1 | AT89: 1 | AZ89: 1 | BB89: 1 | BD89: 1 | BG89: 1 | BJ89: 1 | BL89: 1 | BM89: 1 | BN89: 1 | BO89: 1 | BT89: 1 | BZ89: 1 | CH89: 1 | CM89: 1 | CT89: 1 | DB89: 1 | DE89: 1 | DL89: 1 | DS89: 1 | DV89: 1 | DX89: 1 | EA89: 1 | EJ89: 1 | EL89: 1 | EM89: 1 | EV89: 1 | FD89: 1 | FE89: 1 | FP89: 1 | FR89: 1 | FX89: 1 | GB89: 1 | GR89: 1 | HB89: 1 | HD89: 1 | HG89: 1 | HJ89: 1 | HL89: 1 | HM89: 1 | HN89: 1 | HO89: =SUM(C89:HN89) -> 45
A90: ИТОГО | C90: =SUM(C2:C89) -> 8 | D90: =SUM(D2:D89) -> 7 | E90: =SUM(E2:E89) -> 4 | F90: =SUM(F2:F89) -> 8 | G90: =SUM(G2:G89) -> 3 | H90: =SUM(H2:H89) -> 5 | I90: =SUM(I2:I89) -> 6 | J90: =SUM(J2:J89) -> 7 | ... HN90: =SUM(HN2:HN89) -> 19 | HO90: =SUM(C90:HN90) -> 1997

Sheet stat
B1: ИТОГО
A2: =CONCATENATE(users!$A$27," ",users!A31) -> Лунный свет 15 | B2: =HLOOKUP($B$1,users!$1:$89,31,0) -> 2
A3: =CONCATENATE(users!$A$82," ",users!A87) -> Рябинушка 13 | B3: =HLOOKUP($B$1,users!$1:$89,87,0) -> 2
A4: =CONCATENATE(users!$A$73," ",users!A78) -> Караван 9 | B4: =HLOOKUP($B$1,users!$1:$89,78,0) -> 2
A5: =CONCATENATE(users!$A$2," ",users!A10) -> Небесный 31 | B5: =HLOOKUP($B$1,users!$1:$89,10,0) -> 4
A6: =CONCATENATE(users!$A$36," ",users!A39) -> Боярыня 18 | B6: =HLOOKUP($B$1,users!$1:$89,39,0) -> 4
A7: =CONCATENATE(users!$A$82," ",users!A84) -> Рябинушка 5 | B7: =HLOOKUP($B$1,users!$1:$89,84,0) -> 4
A8: =CONCATENATE(users!$A$56," ",users!A58) -> Рябина 9 | B8: =HLOOKUP($B$1,users!$1:$89,58,0) -> 5
A9: =CONCATENATE(users!$A$65," ",users!A67) -> Казачка 16 | B9: =HLOOKUP($B$1,users!$1:$89,67,0) -> 5
A10: =CONCATENATE(users!$A$56," ",users!A61) -> Рябина 20 | B10: =HLOOKUP($B$1,users!$1:$89,61,0) -> 6
A11: =CONCATENATE(users!$A$82," ",users!A86) -> Рябинушка 10 | B11: =HLOOKUP($B$1,users!$1:$89,86,0) -> 7
A12: =CONCATENATE(users!$A$65," ",users!A66) -> Казачка 7 | B12: =HLOOKUP($B$1,users!$1:$89,66,0) -> 7
A13: =CONCATENATE(users!$A$23," ",users!A24) -> Лирика 13 | B13: =HLOOKUP($B$1,users!$1:$89,24,0) -> 8
A14: =CONCATENATE(users!$A$2," ",users!A9) -> Небесный 30 | B14: =HLOOKUP($B$1,users!$1:$89,9,0) -> 8
A15: =CONCATENATE(users!$A$82," ",users!A88) -> Рябинушка 15 | B15: =HLOOKUP($B$1,users!$1:$89,88,0) -> 8
A16: =CONCATENATE(users!$A$82," ",users!A83) -> Рябинушка 0 | B16: =HLOOKUP($B$1,users!$1:$89,83,0) -> 9
A17: =CONCATENATE(users!$A$2," ",users!A6) -> Небесный 14 | B17: =HLOOKUP($B$1,users!$1:$89,6,0) -> 9
A18: =CONCATENATE(users!$A$65," ",users!A68) -> Казачка 17 | B18: =HLOOKUP($B$1,users!$1:$89,68,0) -> 9
A19: =CONCATENATE(users!$A$27," ",users!A29) -> Лунный свет 7 | B19: =HLOOKUP($B$1,users!$1:$89,29,0) -> 10
A20: =CONCATENATE(users!$A$27," ",users!A28) -> Лунный свет 3 | B20: =HLOOKUP($B$1,users!$1:$89,28,0) -> 10
A21: =CONCATENATE(users!$A$82," ",users!A85) -> Рябинушка 7 | B21: =HLOOKUP($B$1,users!$1:$89,85,0) -> 11
A22: =CONCATENATE(users!$A$2," ",users!A7) -> Небесный 17 | B22: =HLOOKUP($B$1,users!$1:$89,7,0) -> 11
A23: =CONCATENATE(users!$A$36," ",users!A42) -> Боярыня 21 | B23: =HLOOKUP($B$1,users!$1:$89,42,0) -> 14
A24: =CONCATENATE(users!$A$17," ",users!A21) -> Сиреневый туман 18 | B24: =HLOOKUP($B$1,users!$1:$89,21,0) -> 14
A25: =CONCATENATE(users!$A$56," ",users!A59) -> Рябина 18 | B25: =HLOOKUP($B$1,users!$1:$89,59,0) -> 14
A26: =CONCATENATE(users!$A$36," ",users!A41) -> Боярыня 20 | B26: =HLOOKUP($B$1,users!$1:$89,41,0) -> 14
A27: =CONCATENATE(users!$A$56," ",users!A62) -> Рябина 21 | B27: =HLOOKUP($B$1,users!$1:$89,62,0) -> 14
A28: =CONCATENATE(users!$A$2," ",users!A5) -> Небесный 13 | B28: =HLOOKUP($B$1,users!$1:$89,5,0) -> 15
A29: =CONCATENATE(users!$A$2," ",users!A3) -> Небесный 9 | B29: =HLOOKUP($B$1,users!$1:$89,3,0) -> 15
A30: =CONCATENATE(users!$A$27," ",users!A32) -> Лунный свет 18 | B30: =HLOOKUP($B$1,users!$1:$89,32,0) -> 16
A31: =CONCATENATE(users!$A$36," ",users!A37) -> Боярыня 10 | B31: =HLOOKUP($B$1,users!$1:$89,37,0) -> 16
A32: =CONCATENATE(users!$A$56," ",users!A57) -> Рябина 7 | B32: =HLOOKUP($B$1,users!$1:$89,57,0) -> 17
A33: =CONCATENATE(users!$A$17," ",users!A20) -> Сиреневый туман 17 | B33: =HLOOKUP($B$1,users!$1:$89,20,0) -> 17
A34: =CONCATENATE(users!$A$73," ",users!A75) -> Караван 2 | B34: =HLOOKUP($B$1,users!$1:$89,75,0) -> 18
A35: =CONCATENATE(users!$A$23," ",users!A25) -> Лирика 18 | B35: =HLOOKUP($B$1,users!$1:$89,25,0) -> 19
A36: =CONCATENATE(users!$A$47," ",users!A49) -> Посадский 10 | B36: =HLOOKUP($B$1,users!$1:$89,49,0) -> 19
A37: =CONCATENATE(users!$A$36," ",users!A40) -> Боярыня 19 | B37: =HLOOKUP($B$1,users!$1:$89,40,0) -> 20
A38: =CONCATENATE(users!$A$36," ",users!A43) -> Боярыня 22 | B38: =HLOOKUP($B$1,users!$1:$89,43,0) -> 21
A39: =CONCATENATE(users!$A$36," ",users!A38) -> Боярыня 12 | B39: =HLOOKUP($B$1,users!$1:$89,38,0) -> 21
A40: =CONCATENATE(users!$A$70," ",users!A71) -> Летние фантазии 3 | B40: =HLOOKUP($B$1,users!$1:$89,71,0) -> 21
A41: =CONCATENATE(users!$A$65," ",users!A69) -> Казачка 19 | B41: =HLOOKUP($B$1,users!$1:$89,69,0) -> 22
A42: =CONCATENATE(users!$A$36," ",users!A44) -> Боярыня 23 | B42: =HLOOKUP($B$1,users!$1:$89,44,0) -> 22
A43: =CONCATENATE(users!$A$27," ",users!A34) -> Лунный свет 20 | B43: =HLOOKUP($B$1,users!$1:$89,34,0) -> 23
A44: =CONCATENATE(users!$A$27," ",users!A33) -> Лунный свет 19 | B44: =HLOOKUP($B$1,users!$1:$89,33,0) -> 24
A45: =CONCATENATE(users!$A$47," ",users!A51) -> Посадский 18 | B45: =HLOOKUP($B$1,users!$1:$89,51,0) -> 25
A46: =CONCATENATE(users!$A$17," ",users!A18) -> Сиреневый туман 7 | B46: =HLOOKUP($B$1,users!$1:$89,18,0) -> 26
A47: =CONCATENATE(users!$A$73," ",users!A76) -> Караван 5 | B47: =HLOOKUP($B$1,users!$1:$89,76,0) -> 26
A48: =CONCATENATE(users!$A$73," ",users!A77) -> Караван 7 | B48: =HLOOKUP($B$1,users!$1:$89,77,0) -> 27
A49: =CONCATENATE(users!$A$73," ",users!A79) -> Караван 10 | B49: =HLOOKUP($B$1,users!$1:$89,79,0) -> 28
A50: =CONCATENATE(users!$A$52," ",users!A55) -> Печатный пряник 20 | B50: =HLOOKUP($B$1,users!$1:$89,55,0) -> 28
A51: =CONCATENATE(users!$A$73," ",users!A74) -> Караван 0 | B51: =HLOOKUP($B$1,users!$1:$89,74,0) -> 30
A52: =CONCATENATE(users!$A$56," ",users!A60) -> Рябина 19 | B52: =HLOOKUP($B$1,users!$1:$89,60,0) -> 30
A53: =CONCATENATE(users!$A$2," ",users!A4) -> Небесный 10 | B53: =HLOOKUP($B$1,users!$1:$89,4,0) -> 31
A54: =CONCATENATE(users!$A$11," ",users!A14) -> Русские сезоны 17 | B54: =HLOOKUP($B$1,users!$1:$89,14,0) -> 32
A55: =CONCATENATE(users!$A$70," ",users!A72) -> Летние фантазии 18 | B55: =HLOOKUP($B$1,users!$1:$89,72,0) -> 32
A56: =CONCATENATE(users!$A$17," ",users!A22) -> Сиреневый туман 19 | B56: =HLOOKUP($B$1,users!$1:$89,22,0) -> 34
A57: =CONCATENATE(users!$A$2," ",users!A8) -> Небесный 18 | B57: =HLOOKUP($B$1,users!$1:$89,8,0) -> 34
A58: =CONCATENATE(users!$A$47," ",users!A48) -> Посадский 7 | B58: =HLOOKUP($B$1,users!$1:$89,48,0) -> 37
A59: =CONCATENATE(users!$A$36," ",users!A45) -> Боярыня 24 | B59: =HLOOKUP($B$1,users!$1:$89,45,0) -> 37
A60: =CONCATENATE(users!$A$11," ",users!A13) -> Русские сезоны 16 | B60: =HLOOKUP($B$1,users!$1:$89,13,0) -> 38
A61: =CONCATENATE(users!$A$56," ",users!A63) -> Рябина 22 | B61: =HLOOKUP($B$1,users!$1:$89,63,0) -> 39
A62: =CONCATENATE(users!$A$11," ",users!A16) -> Русские сезоны 19 | B62: =HLOOKUP($B$1,users!$1:$89,16,0) -> 42
A63: =CONCATENATE(users!$A$36," ",users!A46) -> Боярыня 25 | B63: =HLOOKUP($B$1,users!$1:$89,46,0) -> 44
A64: =CONCATENATE(users!$A$73," ",users!A80) -> Караван 14 | B64: =HLOOKUP($B$1,users!$1:$89,80,0) -> 44
A65: =CONCATENATE(users!$A$82," ",users!A89) -> Рябинушка 18 | B65: =HLOOKUP($B$1,users!$1:$89,89,0) -> 45
A66: =CONCATENATE(users!$A$27," ",users!A30) -> Лунный свет 8 | B66: =HLOOKUP($B$1,users!$1:$89,30,0) -> 46
A67: =CONCATENATE(users!$A$11," ",users!A15) -> Русские сезоны 18 | B67: =HLOOKUP($B$1,users!$1:$89,15,0) -> 48
A68: =CONCATENATE(users!$A$27," ",users!A35) -> Лунный свет 21 | B68: =HLOOKUP($B$1,users!$1:$89,35,0) -> 52
A69: =CONCATENATE(users!$A$11," ",users!A12) -> Русские сезоны 14 | B69: =HLOOKUP($B$1,users!$1:$89,12,0) -> 56
A70: =CONCATENATE(users!$A$17," ",users!A19) -> Сиреневый туман 14 | B70: =HLOOKUP($B$1,users!$1:$89,19,0) -> 56
A71: =CONCATENATE(users!$A$23," ",users!A26) -> Лирика 19 | B71: =HLOOKUP($B$1,users!$1:$89,26,0) -> 65
A72: =CONCATENATE(users!$A$73," ",users!A81) -> Караван 30 | B72: =HLOOKUP($B$1,users!$1:$89,81,0) -> 76
A73: =CONCATENATE(users!$A$56," ",users!A64) -> Рябина 27 | B73: =HLOOKUP($B$1,users!$1:$89,64,0) -> 78
A74: =CONCATENATE(users!$A$47," ",users!A50) -> Посадский 14 | B74: =HLOOKUP($B$1,users!$1:$89,50,0) -> 88
A75: =CONCATENATE(users!$A$52," ",users!A53) -> Печатный пряник 18 | B75: =HLOOKUP($B$1,users!$1:$89,53,0) -> 91
A76: =CONCATENATE(users!$A$52," ",users!A54) -> Печатный пряник 19 | B76: =HLOOKUP($B$1,users!$1:$89,54,0) -> 94
B77: =SUM(B2:B76) -> 1996

Sheet ranking_colour
B1: ИТОГО
A2: Боярыня | D2: Караван | G2: Лунный свет | J2: Рябина | M2: Небесный | P2: Рябинушка
A3: =CONCATENATE(users!$A$36," ",users!A46) -> Боярыня 25 | B3: =HLOOKUP($B$1,users!$1:$89,46,0) -> 44 | D3: =CONCATENATE(users!$A$73," ",users!A81) -> Караван 30 | E3: =HLOOKUP($B$1,users!$1:$89,81,0) -> 76 | G3: =CONCATENATE(users!$A$27," ",users!A35) -> Лунный свет 21 | H3: =HLOOKUP($B$1,users!$1:$89,35,0) -> 52 | J3: =CONCATENATE(users!$A$56," ",users!A64) -> Рябина 27 | K3: =HLOOKUP($B$1,users!$1:$89,64,0) -> 78 | M3: =CONCATENATE(users!$A$2," ",users!A8) -> Небесный 18 | N3: =HLOOKUP($B$1,users!$1:$89,8,0) -> 34 | P3: =CONCATENATE(users!$A$82," ",users!A89) -> Рябинушка 18 | Q3: =HLOOKUP($B$1,users!$1:$89,89,0) -> 45
A4: =CONCATENATE(users!$A$36," ",users!A45) -> Боярыня 24 | B4: =HLOOKUP($B$1,users!$1:$89,45,0) -> 37 | D4: =CONCATENATE(users!$A$73," ",users!A80) -> Караван 14 | E4: =HLOOKUP($B$1,users!$1:$89,80,0) -> 44 | G4: =CONCATENATE(users!$A$27," ",users!A30) -> Лунный свет 8 | H4: =HLOOKUP($B$1,users!$1:$89,30,0) -> 46 | J4: =CONCATENATE(users!$A$56," ",users!A63) -> Рябина 22 | K4: =HLOOKUP($B$1,users!$1:$89,63,0) -> 39 | M4: =CONCATENATE(users!$A$2," ",users!A4) -> Небесный 10 | N4: =HLOOKUP($B$1,users!$1:$89,4,0) -> 31 | P4: =CONCATENATE(users!$A$82," ",users!A85) -> Рябинушка 7 | Q4: =HLOOKUP($B$1,users!$1:$89,85,0) -> 11
A5: =CONCATENATE(users!$A$36," ",users!A44) -> Боярыня 23 | B5: =HLOOKUP($B$1,users!$1:$89,44,0) -> 22 | D5: =CONCATENATE(users!$A$73," ",users!A74) -> Караван 0 | E5: =HLOOKUP($B$1,users!$1:$89,74,0) -> 30 | G5: =CONCATENATE(users!$A$27," ",users!A33) -> Лунный свет 19 | H5: =HLOOKUP($B$1,users!$1:$89,33,0) -> 24 | J5: =CONCATENATE(users!$A$56," ",users!A60) -> Рябина 19 | K5: =HLOOKUP($B$1,users!$1:$89,60,0) -> 30 | M5: =CONCATENATE(users!$A$2," ",users!A3) -> Небесный 9 | N5: =HLOOKUP($B$1,users!$1:$89,3,0) -> 15 | P5: =CONCATENATE(users!$A$82," ",users!A83) -> Рябинушка 0 | Q5: =HLOOKUP($B$1,users!$1:$89,83,0) -> 9
A6: =CONCATENATE(users!$A$36," ",users!A38) -> Боярыня 12 | B6: =HLOOKUP($B$1,users!$1:$89,38,0) -> 21 | D6: =CONCATENATE(users!$A$73," ",users!A79) -> Караван 10 | E6: =HLOOKUP($B$1,users!$1:$89,79,0) -> 28 | G6: =CONCATENATE(users!$A$27," ",users!A34) -> Лунный свет 20 | H6: =HLOOKUP($B$1,users!$1:$89,34,0) -> 23 | J6: =CONCATENATE(users!$A$56," ",users!A57) -> Рябина 7 | K6: =HLOOKUP($B$1,users!$1:$89,57,0) -> 17 | M6: =CONCATENATE(users!$A$2," ",users!A5) -> Небесный 13 | N6: =HLOOKUP($B$1,users!$1:$89,5,0) -> 15 | P6: =CONCATENATE(users!$A$82," ",users!A88) -> Рябинушка 15 | Q6: =HLOOKUP($B$1,users!$1:$89,88,0) -> 8
A7: =CONCATENATE(users!$A$36," ",users!A43) -> Боярыня 22 | B7: =HLOOKUP($B$1,users!$1:$89,43,0) -> 21 | D7: =CONCATENATE(users!$A$73," ",users!A77) -> Караван 7 | E7: =HLOOKUP($B$1,users!$1:$89,77,0) -> 27 | G7: =CONCATENATE(users!$A$27," ",users!A32) -> Лунный свет 18 | H7: =HLOOKUP($B$1,users!$1:$89,32,0) -> 16 | J7: =CONCATENATE(users!$A$56," ",users!A62) -> Рябина 21 | K7: =HLOOKUP($B$1,users!$1:$89,62,0) -> 14 | M7: =CONCATENATE(users!$A$2," ",users!A7) -> Небесный 17 | N7: =HLOOKUP($B$1,users!$1:$89,7,0) -> 11 | P7: =CONCATENATE(users!$A$82," ",users!A86) -> Рябинушка 10 | Q7: =HLOOKUP($B$1,users!$1:$89,86,0) -> 7
A8: =CONCATENATE(users!$A$36," ",users!A40) -> Боярыня 19 | B8: =HLOOKUP($B$1,users!$1:$89,40,0) -> 20 | D8: =CONCATENATE(users!$A$73," ",users!A76) -> Караван 5 | E8: =HLOOKUP($B$1,users!$1:$89,76,0) -> 26 | G8: =CONCATENATE(users!$A$27," ",users!A28) -> Лунный свет 3 | H8: =HLOOKUP($B$1,users!$1:$89,28,0) -> 10 | J8: =CONCATENATE(users!$A$56," ",users!A59) -> Рябина 18 | K8: =HLOOKUP($B$1,users!$1:$89,59,0) -> 14 | M8: =CONCATENATE(users!$A$2," ",users!A6) -> Небесный 14 | N8: =HLOOKUP($B$1,users!$1:$89,6,0) -> 9 | P8: =CONCATENATE(users!$A$82," ",users!A84) -> Рябинушка 5 | Q8: =HLOOKUP($B$1,users!$1:$89,84,0) -> 4
A9: =CONCATENATE(users!$A$36," ",users!A37) -> Боярыня 10 | B9: =HLOOKUP($B$1,users!$1:$89,37,0) -> 16 | D9: =CONCATENATE(users!$A$73," ",users!A75) -> Караван 2 | E9: =HLOOKUP($B$1,users!$1:$89,75,0) -> 18 | G9: =CONCATENATE(users!$A$27," ",users!A29) -> Лунный свет 7 | H9: =HLOOKUP($B$1,users!$1:$89,29,0) -> 10 | J9: =CONCATENATE(users!$A$56," ",users!A61) -> Рябина 20 | K9: =HLOOKUP($B$1,users!$1:$89,61,0) -> 6 | M9: =CONCATENATE(users!$A$2," ",users!A9) -> Небесный 30 | N9: =HLOOKUP($B$1,users!$1:$89,9,0) -> 8 | P9: =CONCATENATE(users!$A$82," ",users!A87) -> Рябинушка 13 | Q9: =HLOOKUP($B$1,users!$1:$89,87,0) -> 2
A10: =CONCATENATE(users!$A$36," ",users!A41) -> Боярыня 20 | B10: =HLOOKUP($B$1,users!$1:$89,41,0) -> 14 | D10: =CONCATENATE(users!$A$73," ",users!A78) -> Караван 9 | E10: =HLOOKUP($B$1,users!$1:$89,78,0) -> 2 | G10: =CONCATENATE(users!$A$27," ",users!A31) -> Лунный свет 15 | H10: =HLOOKUP($B$1,users!$1:$89,31,0) -> 2 | J10: =CONCATENATE(users!$A$56," ",users!A58) -> Рябина 9 | K10: =HLOOKUP($B$1,users!$1:$89,58,0) -> 5 | M10: =CONCATENATE(users!$A$2," ",users!A10) -> Небесный 31 | N10: =HLOOKUP($B$1,users!$1:$89,10,0) -> 4
A11: =CONCATENATE(users!$A$36," ",users!A42) -> Боярыня 21 | B11: =HLOOKUP($B$1,users!$1:$89,42,0) -> 14
A12: =CONCATENATE(users!$A$36," ",users!A39) -> Боярыня 18 | B12: =HLOOKUP($B$1,users!$1:$89,39,0) -> 4
A14: Сиреневый туман | D14: Русские сезоны | G14: Посадский | J14: Казачка | M14: Печатный пряник | P14: Лирика
A15: =CONCATENATE(users!$A$17," ",users!A19) -> Сиреневый туман 14 | B15: =HLOOKUP($B$1,users!$1:$89,19,0) -> 56 | D15: =CONCATENATE(users!$A$11," ",users!A12) -> Русские сезоны 14 | E15: =HLOOKUP($B$1,users!$1:$89,12,0) -> 56 | G15: =CONCATENATE(users!$A$47," ",users!A50) -> Посадский 14 | H15: =HLOOKUP($B$1,users!$1:$89,50,0) -> 88 | J15: =CONCATENATE(users!$A$65," ",users!A69) -> Казачка 19 | K15: =HLOOKUP($B$1,users!$1:$89,69,0) -> 22 | M15: =CONCATENATE(users!$A$52," ",users!A54) -> Печатный пряник 19 | N15: =HLOOKUP($B$1,users!$1:$89,54,0) -> 94 | P15: =CONCATENATE(users!$A$23," ",users!A26) -> Лирика 19 | Q15: =HLOOKUP($B$1,users!$1:$89,26,0) -> 65
A16: =CONCATENATE(users!$A$17," ",users!A22) -> Сиреневый туман 19 | B16: =HLOOKUP($B$1,users!$1:$89,22,0) -> 34 | D16: =CONCATENATE(users!$A$11," ",users!A15) -> Русские сезоны 18 | E16: =HLOOKUP($B$1,users!$1:$89,15,0) -> 48 | G16: =CONCATENATE(users!$A$47," ",users!A48) -> Посадский 7 | H16: =HLOOKUP($B$1,users!$1:$89,48,0) -> 37 | J16: =CONCATENATE(users!$A$65," ",users!A68) -> Казачка 17 | K16: =HLOOKUP($B$1,users!$1:$89,68,0) -> 9 | M16: =CONCATENATE(users!$A$52," ",users!A53) -> Печатный пряник 18 | N16: =HLOOKUP($B$1,users!$1:$89,53,0) -> 91 | P16: =CONCATENATE(users!$A$23," ",users!A25) -> Лирика 18 | Q16: =HLOOKUP($B$1,users!$1:$89,25,0) -> 19
A17: =CONCATENATE(users!$A$17," ",users!A18) -> Сиреневый туман 7 | B17: =HLOOKUP($B$1,users!$1:$89,18,0) -> 26 | D17: =CONCATENATE(users!$A$11," ",users!A16) -> Русские сезоны 19 | E17: =HLOOKUP($B$1,users!$1:$89,16,0) -> 42 | G17: =CONCATENATE(users!$A$47," ",users!A51) -> Посадский 18 | H17: =HLOOKUP($B$1,users!$1:$89,51,0) -> 25 | J17: =CONCATENATE(users!$A$65," ",users!A66) -> Казачка 7 | K17: =HLOOKUP($B$1,users!$1:$89,66,0) -> 7 | M17: =CONCATENATE(users!$A$52," ",users!A55) -> Печатный пряник 20 | N17: =HLOOKUP($B$1,users!$1:$89,55,0) -> 28 | P17: =CONCATENATE(users!$A$23," ",users!A24) -> Лирика 13 | Q17: =HLOOKUP($B$1,users!$1:$89,24,0) -> 8
A18: =CONCATENATE(users!$A$17," ",users!A20) -> Сиреневый туман 17 | B18: =HLOOKUP($B$1,users!$1:$89,20,0) -> 17 | D18: =CONCATENATE(users!$A$11," ",users!A13) -> Русские сезоны 16 | E18: =HLOOKUP($B$1,users!$1:$89,13,0) -> 38 | G18: =CONCATENATE(users!$A$47," ",users!A49) -> Посадский 10 | H18: =HLOOKUP($B$1,users!$1:$89,49,0) -> 19 | J18: =CONCATENATE(users!$A$65," ",users!A67) -> Казачка 16 | K18: =HLOOKUP($B$1,users!$1:$89,67,0) -> 5
A19: =CONCATENATE(users!$A$17," ",users!A21) -> Сиреневый туман 18 | B19: =HLOOKUP($B$1,users!$1:$89,21,0) -> 14 | D19: =CONCATENATE(users!$A$11," ",users!A14) -> Русские сезоны 17 | E19: =HLOOKUP($B$1,users!$1:$89,14,0) -> 32
A21: Летние фантазии
A22: =CONCATENATE(users!$A$70," ",users!A72) -> Летние фантазии 18 | B22: =HLOOKUP($B$1,users!$1:$89,72,0) -> 32
A23: =CONCATENATE(users!$A$70," ",users!A71) -> Летние фантазии 3 | B23: =HLOOKUP($B$1,users!$1:$89,71,0) -> 21
