Workbook

Sheet users
C1: Наталия 72 | D1: Lila | E1: Tara | F1: Фан | G1: eleka | H1: Брусника | I1: Эстер | J1: Ирена | K1: lirio | L1: Slana | M1: Lilia | N1: Ванесса | O1: Заира | P1: Elizavetta | Q1: Безоблачно | R1: Июльская | S1: Север | T1: Оксана | U1: tata64 | V1: RIA | W1: Lucciola | X1: Грань | Y1: Омела | Z1: Expertalisa | AA1: Елена 103 | AB1: Milora | AC1: Мезень | AD1: Nadin | AE1: snezhinka | AF1: kowikkot | AG1: Lorika | AH1: Августина | AI1: Лена | AJ1: Лорик | AK1: НитьАриадны | AL1: Riga | AM1: Natashkin | AN1: Гульнара | AO1: katrin M. | AP1: ALLA OK. | AQ1: Читающая | AR1: lyudvika | AS1: Вересок | AT1: argon | AU1: Apelsinka | AV1: aleshka317 | AW1: Tancha2511 | AX1: Gera72 | AY1: INA | AZ1: Harita | BA1: Oreshka | BB1: olgaballet | BC1: Фрекен_Жюли | BD1: Свет-лана | BE1: Alisa | BF1: Shurun4ik | BG1: Пампушечка | BH1: СоВа | BI1: ochka | BJ1: Аделана | BK1: синильга | BL1: Елена Х. | BM1: Fenechka | BN1: ELEN-A | BO1: ELEN-A (знакомая) | BP1: Ирина Егорова | BQ1: Стрекоза | BR1: Тусся | BS1: леночка-пеночка | BT1: Lubannya | BU1: Елена К | BV1: Volga | BW1: assol | BX1: Strelec2 | BY1: Vitalina | BZ1: nataliaa | CA1: Дусятко | CB1: olrika | CC1: Индигирка | CD1: ptitsa | CE1: лапы вверх | CF1: Неонила | CG1: Лароза | CH1: ANNI | CI1: my_moonlight | CJ1: mevlana | CK1: Chispa | CL1: Татьяна СПб | CM1: Helga | CN1: InnaBuchneva | CO1: lady_in | CP1: Lada_J | CQ1: АленкаМастерица | CR1: <Marfa> | CS1: Ирина-сказка | CT1: TATY | CU1: Irka | CV1: Scorp | CW1: Larisa71 | CX1: skarlet | CY1: A-Léx-A | CZ1: Olenka | DA1: afujn | DB1: Madlen | DC1: Perla Haviva | DD1: p@r@solk@ | DE1: ВикторияВ | DF1: Каффа | DG1: vikka | DH1: Изумруд | DI1: smolka79 | DJ1: 1Ledy | DK1: Le_rodina | DL1: shostova.t | DM1: Любовь Анатольевна | DN1: olgunia | DO1: ksenechka | DP1: Викирина | DQ1: olga12 | DR1: alisainr | DS1: Натушка | DT1: ElenaB | DU1: Vorobei | DV1: Exocat | DW1: tugrik | DX1: arvenig | DY1: ИринаШел | DZ1: оредеж | EA1: Жимолость | EB1: Акилина | EC1: Труня | ED1: sibirka | EE1: Весновка | EF1: Минерва | EG1: fevralka | EH1: Kлариса | EI1: Silena | EJ1: Татьяна76 | EK1: L_G | EL1: Elena_Nov | EM1: Татьяна Германовна | EN1: YanaYa | EO1: Такта | EP1: Tatyana_Ars | EQ1: берегиня | ER1: Гжель | ES1: Ёлка | ET1: Naive | EU1: Рогозик | EV1: Зарина | EW1: НаташаРичардсон | EX1: MaRiSa65 | EY1: vare_zhka | EZ1: Vikki7 | FA1: Olga T | FB1: Марвари | FC1: Наточка | FD1: Февралия | FE1: Larna | FF1: visnop | FG1: Светлана Бородина | FH1: Elena_A | FI1: Лена_Алёна | FJ1: Сияние | FK1: Провизор | FL1: ИриsКа | FM1: Hel | FN1: Verana | FO1: JuliaZ | FP1: Огонь 22 | FQ1: pronya | FR1: Маргарита Мастера | FS1: Gora | FT1: Мирона | FU1: Regata | FV1: alisainr | FW1: синильга | FX1: Фрейя | FY1: Ландыш | FZ1: Николь123 | GA1: Геранька | GB1: Феотлиса | GC1: Манул | GD1: Касабланка | GE1: Наташенька | GF1: braenn77 | GG1: UGADKA | GH1: OxanaMama | GI1: Оксана74 | GJ1: alisainr | GK1: alfa | GL1: Vesta | GM1: OlgaFox | GN1: elvira | GO1: natalyB | GP1: Сирин | GQ1: Северянка | GR1: Косичка | GS1: эхо27 | GT1: Valena | GU1: AcTpuD | GV1: Синица | GW1: inga-sv | GX1: Столичная | GY1: tanuchka | GZ1: ОльгаC | HA1: Black_Cat | HB1: Филя | HC1: alisainr | HD1: Звёздная | HE1: lenalena | HF1: Аркадия | HG1: tata150764 | HH1: buratino | HI1: Лада | HJ1: Magnette | HK1: yuly1104 | HL1: tig-rik | HM1: manynia | HN1: Альциона | HO1: ИТОГО
A2: Небесный
A3: 9 | B3: =CONCATENATE($A$2," ",A3) -> Небесный 9 | AT3: 1 | AU3: 1 | BO3: 1 | BU3: 1 | CF3: 1 | CJ3: 1 | CO3: 1 | CZ3: 1 | DG3: 1 | DH3: 1 | EN3: 1 | FB3: 1 | FO3: 1 | FS3: 1 | HJ3: 1 | HO3: =SUM(C3:HN3) -> 15
A4: 10 | B4: =CONCATENATE($A$2," ",A4) -> Небесный 10 | F4: 1 | L4: 1 | U4: 1 | AT4: 1 | AZ4: 1 | BB4: 1 | BE4: 1 | BN4: 1 | BO4: 1 | BS4: 1 | BU4: 1 | BW4: 1 | BZ4: 1 | CJ4: 1 | CO4: 1 | DH4: 1 | DJ4: 1 | DO4: 1 | DQ4: 1 | DR4: 1 | DU4: 1 | DZ4: 1 | EA4: 1 | EL4: 1 | ET4: 1 | GV4: 1 | HB4: 1 | HG4: 1 | HI4: 1 | HL4: 1 | HN4: 1 | HO4: =SUM(C4:HN4) -> 31
A5: 13 | B5: =CONCATENATE($A$2," ",A5) -> Небесный 13 | C5: 1 | AA5: 1 | AF5: 1 | AI5: 1 | AL5: 1 | AS5: 1 | BD5: 1 | BJ5: 1 | CZ5: 1 | DB5: 1 | DL5: 1 | DX5: 1 | GH5: 1 | GL5: 1 | HL5: 1 | HO5: =SUM(C5:HN5) -> 15
A6: 14 | B6: =CONCATENATE($A$2," ",A6) -> Небесный 14 | BU6: 1 | CG6: 1 | CJ6: 1 | CO6: 1 | DK6: 1 | DX6: 1 | FK6: 1 | FO6: 1 | HH6: 1 | HO6: =SUM(C6:HN6) -> 9
A7: 17 | B7: =CONCATENATE($A$2," ",A7) -> Небесный 17 | AS7: 1 | AT7: 1 | AX7: 1 | CJ7: 1 | CN7: 1 | DQ7: 1 | ER7: 1 | FO7: 1 | FP7: 1 | GP7: 1 | HL7: 1 | HO7: =SUM(C7:HN7) -> 11
A8: 18 | B8: =CONCATENATE($A$2," ",A8) -> Небесный 18 | M8: 2 | P8: 1 | V8: 1 | AH8: 1 | AI8: 1 | AL8: 1 | AS8: 1 | AU8: 1 | AX8: 1 | AZ8: 1 | BJ8: 1 | BY8: 1 | BZ8: 1 | CF8: 1 | CJ8: 1 | CN8: 1 | CT8: 1 | CV8: 1 | DB8: 1 | DO8: 1 | ED8: 1 | EM8: 1 | EQ8: 1 | EZ8: 1 | FB8: 1 | FI8: 1 | FQ8: 1 | GE8: 1 | GH8: 1 | GI8: 1 | GS8: 1 | HG8: 1 | HJ8: 1 | HO8: =SUM(C8:HN8) -> 34
A9: 30 | B9: =CONCATENATE($A$2," ",A9) -> Небесный 30 | BO9: 1 | BU9: 1 | CG9: 1 | CJ9: 1 | CN9: 1 | CV9: 1 | DH9: 1 | DV9: 1 | HO9: =SUM(C9:HN9) -> 8
A10: 31 | B10: =CONCATENATE($A$2," ",A10) -> Небесный 31 | AW10: 1 | BO10: 1 | BU10: 1 | ER10: 1 | HO10: =SUM(C10:HN10) -> 4
A11: Русские сезоны
A12: 14 | B12: =CONCATENATE($A$11," ",A12) -> Русские сезоны 14 | D12: 1 | I12: 1 | P12: 1 | S12: 1 | Y12: 1 | Z12: 1 | AA12: 1 | AM12: 1 | AU12: 1 | BG12: 1 | BH12: 1 | BK12: 1 | BL12: 1 | BP12: 1 | BR12: 1 | CE12: 1 | CG12: 1 | CJ12: 1 | CO12: 1 | CP12: 1 | CU12: 1 | CX12: 1 | DG12: 1 | DH12: 1 | DJ12: 1 | DK12: 1 | DV12: 1 | DX12: 1 | EA12: 1 | ED12: 1 | EH12: 1 | EI12: 1 | EJ12: 1 | EK12: 1 | EM12: 1 | EO12: 1 | ER12: 1 | EW12: 1 | FB12: 1 | FE12: 1 | FH12: 1 | FO12: 1 | FR12: 1 | FW12: 1 | FY12: 1 | GE12: 1 | GN12: 1 | GO12: 1 | GU12: 1 | GX12: 1 | HB12: 1 | HE12: 1 | HG12: 1 | HH12: 1 | HJ12: 1 | HL12: 1 | HO12: =SUM(C12:HN12) -> 56
A13: 16 | B13: =CONCATENATE($A$11," ",A13) -> Русские сезоны 16 | C13: 1 | W13: 1 | Z13: 1 | AB13: 1 | AM13: 1 | AR13: 1 | AW13: 1 | AX13: 1 | BG13: 1 | BN13: 1 | CF13: 1 | CJ13: 1 | CS13: 1 | CV13: 1 | CX13: 1 | DB13: 1 | DE13: 1 | DF13: 1 | DK13: 1 | DO13: 1 | DR13: 1 | EA13: 1 | EI13: 1 | ER13: 1 | EY13: 1 | EZ13: 1 | FK13: 1 | FM13: 1 | FO13: 1 | FP13: 1 | FR13: 1 | FX13: 1 | FY13: 1 | GA13: 1 | GP13: 1 | GV13: 1 | HJ13: 1 | HL13: 1 | HO13: =SUM(C13:HN13) -> 38
A14: 17 | B14: =CONCATENATE($A$11," ",A14) -> Русские сезоны 17 | J14: 1 | L14: 1 | AP14: 1 | AT14: 1 | AY14: 1 | BH14: 1 | BJ14: 1 | CG14: 1 | CH14: 1 | CJ14: 1 | CN14: 1 | CS14: 1 | DH14: 1 | DJ14: 1 | DS14: 1 | DV14: 1 | ES14: 1 | EY14: 1 | EZ14: 1 | FB14: 1 | FE14: 1 | FK14: 1 | FO14: 1 | FP14: 1 | FQ14: 1 | FS14: 1 | GR14: 1 | HB14: 1 | HG14: 1 | HH14: 1 | HJ14: 1 | HL14: 1 | HO14: =SUM(C14:HN14) -> 32
A15: 18 | B15: =CONCATENATE($A$11," ",A15) -> Русские сезоны 18 | L15: 1 | M15: 2 | Q15: 1 | V15: 1 | X15: 1 | AD15: 1 | AL15: 1 | AM15: 1 | AN15: 1 | AR15: 1 | AX15: 1 | BA15: 1 | BC15: 1 | BD15: 1 | BN15: 1 | BT15: 1 | BW15: 1 | BZ15: 1 | CF15: 1 | CH15: 1 | CJ15: 1 | CS15: 1 | CV15: 1 | CZ15: 1 | DB15: 1 | DE15: 1 | DF15: 1 | DG15: 1 | DO15: 1 | DP15: 1 | DQ15: 1 | DZ15: 1 | EA15: 1 | EL15: 1 | EP15: 1 | EQ15: 1 | ER15: 1 | ET15: 1 | FB15: 1 | FI15: 1 | FN15: 1 | FY15: 1 | GC15: 1 | GY15: 1 | HC15: 1 | HJ15: 1 | HN15: 1 | HO15: =SUM(C15:HN15) -> 48
A16: 19 | B16: =CONCATENATE($A$11," ",A16) -> Русские сезоны 19 | L16: 1 | M16: 2 | N16: 1 | V16: 1 | Z16: 1 | AD16: 1 | AI16: 1 | AL16: 1 | AT16: 1 | AU16: 1 | AX16: 1 | BE16: 1 | BG16: 1 | BP16: 1 | BZ16: 1 | CJ16: 1 | CL16: 1 | CR16: 1 | CS16: 1 | DA16: 1 | DB16: 1 | DC16: 1 | DK16: 1 | DN16: 1 | DS16: 1 | DV16: 1 | DX16: 1 | DY16: 1 | EA16: 1 | EI16: 1 | FB16: 1 | FK16: 1 | FO16: 1 | FP16: 1 | FR16: 1 | GA16: 1 | GI16: 1 | GK16: 1 | GP16: 1 | HJ16: 1 | HL16: 1 | HO16: =SUM(C16:HN16) -> 42
A17: Сиреневый туман
A18: 7 | B18: =CONCATENATE($A$17," ",A18) -> Сиреневый туман 7 | M18: 1 | Z18: 1 | AA18: 1 | AL18: 1 | AR18: 1 | AW18: 1 | AX18: 1 | AZ18: 1 | BJ18: 1 | BZ18: 1 | CF18: 1 | CG18: 1 | DC18: 1 | DL18: 1 | DS18: 1 | EU18: 1 | EZ18: 1 | FF18: 1 | FO18: 1 | FW18: 1 | HB18: 1 | HG18: 1 | HH18: 1 | HI18: 1 | HJ18: 1 | HM18: 1 | HO18: =SUM(C18:HN18) -> 26
A19: 14 | B19: =CONCATENATE($A$17," ",A19) -> Сиреневый туман 14 | M19: 1 | P19: 1 | V19: 1 | Y19: 1 | Z19: 1 | AE19: 1 | AL19: 1 | AT19: 1 | AU19: 1 | AX19: 1 | BA19: 1 | BE19: 1 | BN19: 1 | BO19: 1 | BW19: 1 | BZ19: 1 | CF19: 1 | CG19: 1 | CJ19: 1 | CK19: 1 | CO19: 1 | CP19: 1 | CU19: 1 | CV19: 1 | CW19: 1 | CX19: 1 | DA19: 1 | DB19: 1 | DG19: 1 | DH19: 1 | DO19: 1 | DT19: 1 | DU19: 1 | DX19: 1 | EA19: 1 | ED19: 1 | EH19: 1 | EQ19: 1 | ER19: 1 | ES19: 1 | ET19: 1 | EU19: 1 | EW19: 1 | FB19: 1 | FH19: 1 | FL19: 1 | FR19: 1 | FS19: 1 | FT19: 1 | FZ19: 1 | GE19: 1 | GG19: 1 | HG19: 1 | HH19: 1 | HJ19: 1 | HK19: 1 | HN19: 1 | HO19: =SUM(C19:HK19) -> 56
A20: 17 | B20: =CONCATENATE($A$17," ",A20) -> Сиреневый туман 17 | Z20: 1 | BJ20: 1 | BO20: 1 | CG20: 1 | CJ20: 1 | CU20: 1 | CX20: 1 | DG20: 1 | DJ20: 1 | ET20: 1 | FB20: 1 | FQ20: 1 | FT20: 1 | GC20: 1 | GK20: 1 | HD20: 1 | HH20: 1 | HO20: =SUM(C20:HN20) -> 17
A21: 18 | B21: =CONCATENATE($A$17," ",A21) -> Сиреневый туман 18 | AR21: 1 | BC21: 1 | BD21: 1 | BN21: 1 | CJ21: 1 | DH21: 1 | DO21: 1 | DV21: 1 | EA21: 1 | EJ21: 1 | ET21: 1 | GY21: 1 | HD21: 1 | HN21: 1 | HO21: =SUM(C21:HN21) -> 14
A22: 19 | B22: =CONCATENATE($A$17," ",A22) -> Сиреневый туман 19 | M22: 1 | U22: 1 | X22: 1 | Z22: 1 | AB22: 1 | AL22: 1 | AT22: 1 | AX22: 1 | AZ22: 1 | BJ22: 1 | BZ22: 1 | CG22: 1 | CJ22: 1 | CS22: 1 | CV22: 1 | DF22: 1 | DR22: 1 | DT22: 1 | DV22: 1 | EA22: 1 | ER22: 1 | ET22: 1 | EW22: 1 | FH22: 1 | FI22: 1 | FJ22: 1 | FO22: 1 | FP22: 1 | FR22: 1 | FZ22: 1 | GO22: 1 | GV22: 1 | HJ22: 1 | HL22: 1 | HO22: =SUM(C22:HN22) -> 34
A23: Лирика
A24: 13 | B24: =CONCATENATE($A$23," ",A24) -> Лирика 13 | BJ24: 1 | CQ24: 1 | CT24: 1 | ED24: 1 | FR24: 1 | GU24: 1 | HG24: 1 | HJ24: 1 | HO24: =SUM(C24:HN24) -> 8
A25: 18 | B25: =CONCATENATE($A$23," ",A25) -> Лирика 18 | O25: 1 | AA25: 1 | BH25: 1 | BJ25: 1 | BL25: 1 | BO25: 1 | BS25: 1 | CQ25: 1 | DH25: 1 | DZ25: 1 | EZ25: 1 | FF25: 1 | FO25: 1 | FR25: 1 | FS25: 1 | GK25: 1 | GS25: 1 | GV25: 1 | HJ25: 1 | HO25: =SUM(C25:HN25) -> 19
A26: 19 | B26: =CONCATENATE($A$23," ",A26) -> Лирика 19 | C26: 1 | P26: 1 | Q26: 1 | V26: 1 | X26: 1 | Y26: 1 | Z26: 1 | AI26: 1 | AJ26: 1 | AR26: 1 | AW26: 1 | BC26: 1 | BG26: 1 | BJ26: 1 | BM26: 1 | BP26: 1 | BR26: 1 | BX26: 1 | BZ26: 1 | CF26: 2 | CJ26: 1 | CO26: 1 | CP26: 1 | CQ26: 1 | CV26: 1 | CX26: 1 | DB26: 1 | DE26: 1 | DH26: 1 | DJ26: 1 | DL26: 1 | DO26: 1 | DS26: 1 | DT26: 1 | ED26: 1 | EH26: 1 | EL26: 1 | EM26: 1 | EN26: 1 | ER26: 1 | ES26: 1 | ET26: 1 | EX26: 1 | FB26: 1 | FD26: 1 | FO26: 1 | FP26: 1 | FQ26: 1 | FR26: 1 | FW26: 1 | FX26: 1 | FY26: 1 | GC26: 2 | GE26: 1 | GI26: 1 | GN26: 1 | GO26: 1 | GR26: 1 | GW26: 1 | HD26: 1 | HG26: 1 | HH26: 1 | HJ26: 1 | HO26: =SUM(C26:HN26) -> 65
A27: Лунный свет
A28: 3 | B28: =CONCATENATE($A$27," ",A28) -> Лунный свет 3 | U28: 1 | BB28: 1 | CG28: 1 | CH28: 1 | DL28: 1 | EA28: 1 | FG28: 1 | FR28: 1 | GV28: 1 | HJ28: 1 | HO28: =SUM(C28:HN28) -> 10
A29: 7 | B29: =CONCATENATE($A$27," ",A29) -> Лунный свет 7 | AS29: 1 | BG29: 1 | BJ29: 1 | BO29: 1 | EG29: 1 | EY29: 1 | FD29: 1 | FE29: 1 | GF29: 1 | HL29: 1 | HO29: =SUM(C29:HN29) -> 10
A30: 8 | B30: =CONCATENATE($A$27," ",A30) -> Лунный свет 8 | P30: 1 | Q30: 1 | X30: 1 | AF30: 1 | AS30: 1 | AT30: 1 | AU30: 1 | AX30: 1 | BB30: 1 | BG30: 1 | BO30: 1 | BV30: 1 | BZ30: 1 | CG30: 1 | CH30: 1 | CJ30: 1 | CK30: 1 | CP30: 1 | CS30: 1 | CV30: 1 | DA30: 1 | DE30: 1 | DF30: 1 | DJ30: 1 | DO30: 1 | DQ30: 1 | DV30: 1 | DW30: 1 | EA30: 1 | EI30: 1 | EL30: 1 | EM30: 1 | EN30: 1 | EQ30: 1 | ES30: 1 | EU30: 1 | EY30: 1 | FJ30: 1 | FM30: 1 | FN30: 1 | FO30: 1 | FR30: 1 | GM30: 1 | GR30: 1 | HG30: 1 | HN30: 1 | HO30: =SUM(C30:HN30) -> 46
A31: 15 | B31: =CONCATENATE($A$27," ",A31) -> Лунный свет 15 | DG31: 1 | FR31: 1 | HO31: =SUM(C31:HN31) -> 2
A32: 18 | B32: =CONCATENATE($A$27," ",A32) -> Лунный свет 18 | D32: 1 | L32: 1 | BG32: 1 | BI32: 1 | BJ32: 1 | BO32: 1 | BX32: 1 | CU32: 1 | CY32: 1 | DB32: 1 | DQ32: 1 | EA32: 1 | ED32: 1 | EI32: 1 | FP32: 1 | HL32: 1 | HO32: =SUM(C32:HN32) -> 16
A33: 19 | B33: =CONCATENATE($A$27," ",A33) -> Лунный свет 19 | L33: 1 | AL33: 1 | AS33: 1 | AT33: 1 | AW33: 1 | AX33: 1 | AZ33: 1 | BH33: 1 | BO33: 1 | BX33: 1 | BZ33: 1 | CG33: 1 | CJ33: 1 | CL33: 1 | CS33: 1 | DQ33: 1 | EY33: 1 | FO33: 1 | FQ33: 1 | GM33: 1 | HB33: 1 | HG33: 1 | HH33: 1 | HL33: 1 | HO33: =SUM(C33:HN33) -> 24
A34: 20 | B34: =CONCATENATE($A$27," ",A34) -> Лунный свет 20 | I34: 1 | M34: 1 | AL34: 1 | AS34: 1 | AZ34: 1 | BB34: 1 | BG34: 1 | BJ34: 1 | BN34: 1 | BZ34: 1 | CK34: 1 | CS34: 1 | CT34: 1 | CV34: 1 | DD34: 1 | DJ34: 1 | DL34: 1 | EA34: 1 | ED34: 1 | FL34: 1 | HB34: 1 | HG34: 1 | HL34: 1 | HO34: =SUM(C34:HN34) -> 23
A35: 21 | B35: =CONCATENATE($A$27," ",A35) -> Лунный свет 21 | C35: 1 | G35: 1 | M35: 1 | N35: 1 | P35: 1 | U35: 1 | X35: 1 | AH35: 1 | AL35: 1 | AP35: 1 | AT35: 1 | AZ35: 1 | BJ35: 1 | BN35: 1 | BS35: 1 | BT35: 1 | BZ35: 1 | CE35: 1 | CG35: 1 | CJ35: 1 | CP35: 1 | CT35: 1 | CU35: 1 | DB35: 1 | DE35: 1 | DQ35: 1 | DV35: 1 | DW35: 1 | EA35: 1 | EB35: 1 | EC35: 1 | EL35: 1 | ET35: 1 | EU35: 1 | FB35: 1 | FG35: 1 | FI35: 1 | FL35: 1 | FP35: 1 | FR35: 1 | FT35: 1 | FX35: 1 | GF35: 1 | GK35: 1 | GL35: 1 | GN35: 1 | GR35: 1 | HB35: 1 | HD35: 1 | HJ35: 1 | HN35: 2 | HO35: =SUM(C35:HN35) -> 52
A36: Боярыня
A37: 10 | B37: =CONCATENATE($A$36," ",A37) -> Боярыня 10 | H37: 1 | Q37: 1 | U37: 1 | AI37: 1 | AL37: 1 | AS37: 1 | AT37: 1 | CA37: 1 | CH37: 1 | CS37: 1 | DH37: 1 | FR37: 1 | FV37: 1 | GA37: 1 | GH37: 1 | GL37: 1 | HO37: =SUM(C37:HN37) -> 16
A38: 12 | B38: =CONCATENATE($A$36," ",A38) -> Боярыня 12 | C38: 1 | U38: 1 | X38: 1 | AS38: 1 | BO38: 1 | BT38: 1 | CA38: 1 | CG38: 1 | CK38: 1 | CS38: 1 | DX38: 1 | DZ38: 1 | EA38: 1 | EN38: 1 | ER38: 1 | FH38: 1 | FR38: 1 | GH38: 1 | HG38: 1 | HH38: 1 | HJ38: 1 | HO38: =SUM(C38:HN38) -> 21
A39: 18 | B39: =CONCATENATE($A$36," ",A39) -> Боярыня 18 | U39: 1 | AY39: 1 | BJ39: 1 | DB39: 1 | HO39: =SUM(C39:HN39) -> 4
A40: 19 | B40: =CONCATENATE($A$36," ",A40) -> Боярыня 19 | D40: 1 | U40: 1 | AG40: 1 | AS40: 1 | AT40: 1 | AY40: 1 | BS40: 1 | CG40: 1 | CI40: 1 | DG40: 1 | DL40: 1 | DX40: 1 | EA40: 1 | EH40: 1 | EI40: 1 | FR40: 1 | FZ40: 1 | GB40: 1 | HJ40: 1 | HL40: 1 | HO40: =SUM(C40:HN40) -> 20
...

Sheet stat
B1: ИТОГО
A2: =CONCATENATE(users!$A$27," ",users!A31) -> Лунный свет 15 | B2: =HLOOKUP($B$1,users!$1:$89,31,0) -> 2
A3: =CONCATENATE(users!$A$82," ",users!A87) -> Рябинушка 13 | B3: =HLOOKUP($B$1,users!$1:$89,87,0) -> 2
A4: =CONCATENATE(users!$A$73," ",users!A78) -> Караван 9 | B4: =HLOOKUP($B$1,users!$1:$89,78,0) -> 2
A5: =CONCATENATE(users!$A$2," ",users!A10) -> Небесный 31 | B5: =HLOOKUP($B$1,users!$1:$89,10,0) -> 4
A6: =CONCATENATE(users!$A$36," ",users!A39) -> Боярыня 18 | B6: =HLOOKUP($B$1,users!$1:$89,39,0) -> 4
A7: =CONCATENATE(users!$A$82," ",users!A84) -> Рябинушка 5 | B7: =HLOOKUP($B$1,users!$1:$89,84,0) -> 4
A8: =CONCATENATE(users!$A$56," ",users!A58) -> Рябина 9 | B8: =HLOOKUP($B$1,users!$1:$89,58,0) -> 5
A9: =CONCATENATE(users!$A$65," ",users!A67) -> Казачка 16 | B9: =HLOOKUP($B$1,users!$1:$89,67,0) -> 5
A10: =CONCATENATE(users!$A$56," ",users!A61) -> Рябина 20 | B10: =HLOOKUP($B$1,users!$1:$89,61,0) -> 6
A11: =CONCATENATE(users!$A$82," ",users!A86) -> Рябинушка 10 | B11: =HLOOKUP($B$1,users!$1:$89,86,0) -> 7
A12: =CONCATENATE(users!$A$65," ",users!A66) -> Казачка 7 | B12: =HLOOKUP($B$1,users!$1:$89,66,0) -> 7
A13: =CONCATENATE(users!$A$23," ",users!A24) -> Лирика 13 | B13: =HLOOKUP($B$1,users!$1:$89,24,0) -> 8
A14: =CONCATENATE(users!$A$2," ",users!A9) -> Небесный 30 | B14: =HLOOKUP($B$1,users!$1:$89,9,0) -> 8
A15: =CONCATENATE(users!$A$82," ",users!A88) -> Рябинушка 15 | B15: =HLOOKUP($B$1,users!$1:$89,88,0) -> 8
A16: =CONCATENATE(users!$A$82," ",users!A83) -> Рябинушка 0 | B16: =HLOOKUP($B$1,users!$1:$89,83,0) -> 9
A17: =CONCATENATE(users!$A$2," ",users!A6) -> Небесный 14 | B17: =HLOOKUP($B$1,users!$1:$89,6,0) -> 9
A18: =CONCATENATE(users!$A$65," ",users!A68) -> Казачка 17 | B18: =HLOOKUP($B$1,users!$1:$89,68,0) -> 9
A19: =CONCATENATE(users!$A$27," ",users!A29) -> Лунный свет 7 | B19: =HLOOKUP($B$1,users!$1:$89,29,0) -> 10
A20: =CONCATENATE(users!$A$27," ",users!A28) -> Лунный свет 3 | B20: =HLOOKUP($B$1,users!$1:$89,28,0) -> 10
A21: =CONCATENATE(users!$A$82," ",users!A85) -> Рябинушка 7 | B21: =HLOOKUP($B$1,users!$1:$89,85,0) -> 11
A22: =CONCATENATE(users!$A$2," ",users!A7) -> Небесный 17 | B22: =HLOOKUP($B$1,users!$1:$89,7,0) -> 11
A23: =CONCATENATE(users!$A$36," ",users!A42) -> Боярыня 21 | B23: =HLOOKUP($B$1,users!$1:$89,42,0) -> 14
A24: =CONCATENATE(users!$A$17," ",users!A21) -> Сиреневый туман 18 | B24: =HLOOKUP($B$1,users!$1:$89,21,0) -> 14
A25: =CONCATENATE(users!$A$56," ",users!A59) -> Рябина 18 | B25: =HLOOKUP($B$1,users!$1:$89,59,0) -> 14
A26: =CONCATENATE(users!$A$36," ",users!A41) -> Боярыня 20 | B26: =HLOOKUP($B$1,users!$1:$89,41,0) -> 14
A27: =CONCATENATE(users!$A$56," ",users!A62) -> Рябина 21 | B27: =HLOOKUP($B$1,users!$1:$89,62,0) -> 14
A28: =CONCATENATE(users!$A$2," ",users!A5) -> Небесный 13 | B28: =HLOOKUP($B$1,users!$1:$89,5,0) -> 15
A29: =CONCATENATE(users!$A$2," ",users!A3) -> Небесный 9 | B29: =HLOOKUP($B$1,users!$1:$89,3,0) -> 15
A30: =CONCATENATE(users!$A$27," ",users!A32) -> Лунный свет 18 | B30: =HLOOKUP($B$1,users!$1:$89,32,0) -> 16
A31: =CONCATENATE(users!$A$36," ",users!A37) -> Боярыня 10 | B31: =HLOOKUP($B$1,users!$1:$89,37,0) -> 16
A32: =CONCATENATE(users!$A$56," ",users!A57) -> Рябина 7 | B32: =HLOOKUP($B$1,users!$1:$89,57,0) -> 17
A33: =CONCATENATE(users!$A$17," ",users!A20) -> Сиреневый туман 17 | B33: =HLOOKUP($B$1,users!$1:$89,20,0) -> 17
A34: =CONCATENATE(users!$A$73," ",users!A75) -> Караван 2 | B34: =HLOOKUP($B$1,users!$1:$89,75,0) -> 18
A35: =CONCATENATE(users!$A$23," ",users!A25) -> Лирика 18 | B35: =HLOOKUP($B$1,users!$1:$89,25,0) -> 19
A36: =CONCATENATE(users!$A$47," ",users!A49) -> Посадский 10 | B36: =HLOOKUP($B$1,users!$1:$89,49,0) -> 19
A37: =CONCATENATE(users!$A$36," ",users!A40) -> Боярыня 19 | B37: =HLOOKUP($B$1,users!$1:$89,40,0) -> 20
A38: =CONCATENATE(users!$A$36," ",users!A43) -> Боярыня 22 | B38: =HLOOKUP($B$1,users!$1:$89,43,0) -> 21
A39: =CONCATENATE(users!$A$36," ",users!A38) -> Боярыня 12 | B39: =HLOOKUP($B$1,users!$1:$89,38,0) -> 21
A40: =CONCATENATE(users!$A$70," ",users!A71) -> Летние фантазии 3 | B40: =HLOOKUP($B$1,users!$1:$89,71,0) -> 21
...

Sheet ranking_colour
B1: ИТОГО
A2: Боярыня | D2: Караван | G2: Лунный свет | J2: Рябина | M2: Небесный | P2: Рябинушка
A3: =CONCATENATE(users!$A$36," ",users!A46) -> Боярыня 25 | B3: =HLOOKUP($B$1,users!$1:$89,46,0) -> 44 | D3: =CONCATENATE(users!$A$73," ",users!A81) -> Караван 30 | E3: =HLOOKUP($B$1,users!$1:$89,81,0) -> 76 | G3: =CONCATENATE(users!$A$27," ",users!A35) -> Лунный свет 21 | H3: =HLOOKUP($B$1,users!$1:$89,35,0) -> 52 | J3: =CONCATENATE(users!$A$56," ",users!A64) -> Рябина 27 | K3: =HLOOKUP($B$1,users!$1:$89,64,0) -> 78 | M3: =CONCATENATE(users!$A$2," ",users!A8) -> Небесный 18 | N3: =HLOOKUP($B$1,users!$1:$89,8,0) -> 34 | P3: =CONCATENATE(users!$A$82," ",users!A89) -> Рябинушка 18 | Q3: =HLOOKUP($B$1,users!$1:$89,89,0) -> 45
A4: =CONCATENATE(users!$A$36," ",users!A45) -> Боярыня 24 | B4: =HLOOKUP($B$1,users!$1:$89,45,0) -> 37 | D4: =CONCATENATE(users!$A$73," ",users!A80) -> Караван 14 | E4: =HLOOKUP($B$1,users!$1:$89,80,0) -> 44 | G4: =CONCATENATE(users!$A$27," ",users!A30) -> Лунный свет 8 | H4: =HLOOKUP($B$1,users!$1:$89,30,0) -> 46 | J4: =CONCATENATE(users!$A$56," ",users!A63) -> Рябина 22 | K4: =HLOOKUP($B$1,users!$1:$89,63,0) -> 39 | M4: =CONCATENATE(users!$A$2," ",users!A4) -> Небесный 10 | N4: =HLOOKUP($B$1,users!$1:$89,4,0) -> 31 | P4: =CONCATENATE(users!$A$82," ",users!A85) -> Рябинушка 7 | Q4: =HLOOKUP($B$1,users!$1:$89,85,0) -> 11
A5: =CONCATENATE(users!$A$36," ",users!A44) -> Боярыня 23 | B5: =HLOOKUP($B$1,users!$1:$89,44,0) -> 22 | D5: =CONCATENATE(users!$A$73," ",users!A74) -> Караван 0 | E5: =HLOOKUP($B$1,users!$1:$89,74,0) -> 30 | G5: =CONCATENATE(users!$A$27," ",users!A33) -> Лунный свет 19 | H5: =HLOOKUP($B$1,users!$1:$89,33,0) -> 24 | J5: =CONCATENATE(users!$A$56," ",users!A60) -> Рябина 19 | K5: =HLOOKUP($B$1,users!$1:$89,60,0) -> 30 | M5: =CONCATENATE(users!$A$2," ",users!A3) -> Небесный 9 | N5: =HLOOKUP($B$1,users!$1:$89,3,0) -> 15 | P5: =CONCATENATE(users!$A$82," ",users!A83) -> Рябинушка 0 | Q5: =HLOOKUP($B$1,users!$1:$89,83,0) -> 9
A6: =CONCATENATE(users!$A$36," ",users!A38) -> Боярыня 12 | B6: =HLOOKUP($B$1,users!$1:$89,38,0) -> 21 | D6: =CONCATENATE(users!$A$73," ",users!A79) -> Караван 10 | E6: =HLOOKUP($B$1,users!$1:$89,79,0) -> 28 | G6: =CONCATENATE(users!$A$27," ",users!A34) -> Лунный свет 20 | H6: =HLOOKUP($B$1,users!$1:$89,34,0) -> 23 | J6: =CONCATENATE(users!$A$56," ",users!A57) -> Рябина 7 | K6: =HLOOKUP($B$1,users!$1:$89,57,0) -> 17 | M6: =CONCATENATE(users!$A$2," ",users!A5) -> Небесный 13 | N6: =HLOOKUP($B$1,users!$1:$89,5,0) -> 15 | P6: =CONCATENATE(users!$A$82," ",users!A88) -> Рябинушка 15 | Q6: =HLOOKUP($B$1,users!$1:$89,88,0) -> 8
A7: =CONCATENATE(users!$A$36," ",users!A43) -> Боярыня 22 | B7: =HLOOKUP($B$1,users!$1:$89,43,0) -> 21 | D7: =CONCATENATE(users!$A$73," ",users!A77) -> Караван 7 | E7: =HLOOKUP($B$1,users!$1:$89,77,0) -> 27 | G7: =CONCATENATE(users!$A$27," ",users!A32) -> Лунный свет 18 | H7: =HLOOKUP($B$1,users!$1:$89,32,0) -> 16 | J7: =CONCATENATE(users!$A$56," ",users!A62) -> Рябина 21 | K7: =HLOOKUP($B$1,users!$1:$89,62,0) -> 14 | M7: =CONCATENATE(users!$A$2," ",users!A7) -> Небесный 17 | N7: =HLOOKUP($B$1,users!$1:$89,7,0) -> 11 | P7: =CONCATENATE(users!$A$82," ",users!A86) -> Рябинушка 10 | Q7: =HLOOKUP($B$1,users!$1:$89,86,0) -> 7
A8: =CONCATENATE(users!$A$36," ",users!A40) -> Боярыня 19 | B8: =HLOOKUP($B$1,users!$1:$89,40,0) -> 20 | D8: =CONCATENATE(users!$A$73," ",users!A76) -> Караван 5 | E8: =HLOOKUP($B$1,users!$1:$89,76,0) -> 26 | G8: =CONCATENATE(users!$A$27," ",users!A28) -> Лунный свет 3 | H8: =HLOOKUP($B$1,users!$1:$89,28,0) -> 10 | J8: =CONCATENATE(users!$A$56," ",users!A59) -> Рябина 18 | K8: =HLOOKUP($B$1,users!$1:$89,59,0) -> 14 | M8: =CONCATENATE(users!$A$2," ",users!A6) -> Небесный 14 | N8: =HLOOKUP($B$1,users!$1:$89,6,0) -> 9 | P8: =CONCATENATE(users!$A$82," ",users!A84) -> Рябинушка 5 | Q8: =HLOOKUP($B$1,users!$1:$89,84,0) -> 4
A9: =CONCATENATE(users!$A$36," ",users!A37) -> Боярыня 10 | B9: =HLOOKUP($B$1,users!$1:$89,37,0) -> 16 | D9: =CONCATENATE(users!$A$73," ",users!A75) -> Караван 2 | E9: =HLOOKUP($B$1,users!$1:$89,75,0) -> 18 | G9: =CONCATENATE(users!$A$27," ",users!A29) -> Лунный свет 7 | H9: =HLOOKUP($B$1,users!$1:$89,29,0) -> 10 | J9: =CONCATENATE(users!$A$56," ",users!A61) -> Рябина 20 | K9: =HLOOKUP($B$1,users!$1:$89,61,0) -> 6 | M9: =CONCATENATE(users!$A$2," ",users!A9) -> Небесный 30 | N9: =HLOOKUP($B$1,users!$1:$89,9,0) -> 8 | P9: =CONCATENATE(users!$A$82," ",users!A87) -> Рябинушка 13 | Q9: =HLOOKUP($B$1,users!$1:$89,87,0) -> 2
A10: =CONCATENATE(users!$A$36," ",users!A41) -> Боярыня 20 | B10: =HLOOKUP($B$1,users!$1:$89,41,0) -> 14 | D10: =CONCATENATE(users!$A$73," ",users!A78) -> Караван 9 | E10: =HLOOKUP($B$1,users!$1:$89,78,0) -> 2 | G10: =CONCATENATE(users!$A$27," ",users!A31) -> Лунный свет 15 | H10: =HLOOKUP($B$1,users!$1:$89,31,0) -> 2 | J10: =CONCATENATE(users!$A$56," ",users!A58) -> Рябина 9 | K10: =HLOOKUP($B$1,users!$1:$89,58,0) -> 5 | M10: =CONCATENATE(users!$A$2," ",users!A10) -> Небесный 31 | N10: =HLOOKUP($B$1,users!$1:$89,10,0) -> 4
A11: =CONCATENATE(users!$A$36," ",users!A42) -> Боярыня 21 | B11: =HLOOKUP($B$1,users!$1:$89,42,0) -> 14
A12: =CONCATENATE(users!$A$36," ",users!A39) -> Боярыня 18 | B12: =HLOOKUP($B$1,users!$1:$89,39,0) -> 4
A14: Сиреневый туман | D14: Русские сезоны | G14: Посадский | J14: Казачка | M14: Печатный пряник | P14: Лирика
A15: =CONCATENATE(users!$A$17," ",users!A19) -> Сиреневый туман 14 | B15: =HLOOKUP($B$1,users!$1:$89,19,0) -> 56 | D15: =CONCATENATE(users!$A$11," ",users!A12) -> Русские сезоны 14 | E15: =HLOOKUP($B$1,users!$1:$89,12,0) -> 56 | G15: =CONCATENATE(users!$A$47," ",users!A50) -> Посадский 14 | H15: =HLOOKUP($B$1,users!$1:$89,50,0) -> 88 | J15: =CONCATENATE(users!$A$65," ",users!A69) -> Казачка 19 | K15: =HLOOKUP($B$1,users!$1:$89,69,0) -> 22 | M15: =CONCATENATE(users!$A$52," ",users!A54) -> Печатный пряник 19 | N15: =HLOOKUP($B$1,users!$1:$89,54,0) -> 94 | P15: =CONCATENATE(users!$A$23," ",users!A26) -> Лирика 19 | Q15: =HLOOKUP($B$1,users!$1:$89,26,0) -> 65
A16: =CONCATENATE(users!$A$17," ",users!A22) -> Сиреневый туман 19 | B16: =HLOOKUP($B$1,users!$1:$89,22,0) -> 34 | D16: =CONCATENATE(users!$A$11," ",users!A15) -> Русские сезоны 18 | E16: =HLOOKUP($B$1,users!$1:$89,15,0) -> 48 | G16: =CONCATENATE(users!$A$47," ",users!A48) -> Посадский 7 | H16: =HLOOKUP($B$1,users!$1:$89,48,0) -> 37 | J16: =CONCATENATE(users!$A$65," ",users!A68) -> Казачка 17 | K16: =HLOOKUP($B$1,users!$1:$89,68,0) -> 9 | M16: =CONCATENATE(users!$A$52," ",users!A53) -> Печатный пряник 18 | N16: =HLOOKUP($B$1,users!$1:$89,53,0) -> 91 | P16: =CONCATENATE(users!$A$23," ",users!A25) -> Лирика 18 | Q16: =HLOOKUP($B$1,users!$1:$89,25,0) -> 19
A17: =CONCATENATE(users!$A$17," ",users!A18) -> Сиреневый туман 7 | B17: =HLOOKUP($B$1,users!$1:$89,18,0) -> 26 | D17: =CONCATENATE(users!$A$11," ",users!A16) -> Русские сезоны 19 | E17: =HLOOKUP($B$1,users!$1:$89,16,0) -> 42 | G17: =CONCATENATE(users!$A$47," ",users!A51) -> Посадский 18 | H17: =HLOOKUP($B$1,users!$1:$89,51,0) -> 25 | J17: =CONCATENATE(users!$A$65," ",users!A66) -> Казачка 7 | K17: =HLOOKUP($B$1,users!$1:$89,66,0) -> 7 | M17: =CONCATENATE(users!$A$52," ",users!A55) -> Печатный пряник 20 | N17: =HLOOKUP($B$1,users!$1:$89,55,0) -> 28 | P17: =CONCATENATE(users!$A$23," ",users!A24) -> Лирика 13 | Q17: =HLOOKUP($B$1,users!$1:$89,24,0) -> 8
A18: =CONCATENATE(users!$A$17," ",users!A20) -> Сиреневый туман 17 | B18: =HLOOKUP($B$1,users!$1:$89,20,0) -> 17 | D18: =CONCATENATE(users!$A$11," ",users!A13) -> Русские сезоны 16 | E18: =HLOOKUP($B$1,users!$1:$89,13,0) -> 38 | G18: =CONCATENATE(users!$A$47," ",users!A49) -> Посадский 10 | H18: =HLOOKUP($B$1,users!$1:$89,49,0) -> 19 | J18: =CONCATENATE(users!$A$65," ",users!A67) -> Казачка 16 | K18: =HLOOKUP($B$1,users!$1:$89,67,0) -> 5
A19: =CONCATENATE(users!$A$17," ",users!A21) -> Сиреневый туман 18 | B19: =HLOOKUP($B$1,users!$1:$89,21,0) -> 14 | D19: =CONCATENATE(users!$A$11," ",users!A14) -> Русские сезоны 17 | E19: =HLOOKUP($B$1,users!$1:$89,14,0) -> 32
A21: Летние фантазии
A22: =CONCATENATE(users!$A$70," ",users!A72) -> Летние фантазии 18 | B22: =HLOOKUP($B$1,users!$1:$89,72,0) -> 32
A23: =CONCATENATE(users!$A$70," ",users!A71) -> Летние фантазии 3 | B23: =HLOOKUP($B$1,users!$1:$89,71,0) -> 21
